BEGIN:VCALENDAR
VERSION:2.0
PRODID:-//Pompano Beach Live - ECPv6.15.20//NONSGML v1.0//EN
CALSCALE:GREGORIAN
METHOD:PUBLISH
X-ORIGINAL-URL:https://pompanotheater.com
X-WR-CALDESC:Events for Pompano Beach Live
REFRESH-INTERVAL;VALUE=DURATION:PT1H
X-Robots-Tag:noindex
X-PUBLISHED-TTL:PT1H
BEGIN:VTIMEZONE
TZID:America/New_York
BEGIN:DAYLIGHT
TZOFFSETFROM:-0500
TZOFFSETTO:-0400
TZNAME:EDT
DTSTART:20250309T070000
END:DAYLIGHT
BEGIN:STANDARD
TZOFFSETFROM:-0400
TZOFFSETTO:-0500
TZNAME:EST
DTSTART:20251102T060000
END:STANDARD
BEGIN:DAYLIGHT
TZOFFSETFROM:-0500
TZOFFSETTO:-0400
TZNAME:EDT
DTSTART:20260308T070000
END:DAYLIGHT
BEGIN:STANDARD
TZOFFSETFROM:-0400
TZOFFSETTO:-0500
TZNAME:EST
DTSTART:20261101T060000
END:STANDARD
BEGIN:DAYLIGHT
TZOFFSETFROM:-0500
TZOFFSETTO:-0400
TZNAME:EDT
DTSTART:20270314T070000
END:DAYLIGHT
BEGIN:STANDARD
TZOFFSETFROM:-0400
TZOFFSETTO:-0500
TZNAME:EST
DTSTART:20271107T060000
END:STANDARD
END:VTIMEZONE
BEGIN:VEVENT
DTSTART;TZID=America/New_York:20260626T170000
DTEND;TZID=America/New_York:20260626T183000
DTSTAMP:20260420T131103
CREATED:20260305T103631Z
LAST-MODIFIED:20260406T105040Z
UID:10000123-1782493200-1782498600@pompanotheater.com
SUMMARY:Floridas Funniest Comedians Present DEAN NAPOLITANO and JOE LATHAM at The Hive
DESCRIPTION: Single Tickets: $25 | $35 \n\nFlorida’s Funniest Comedians presents\, well\, Florida’s Funniest Comedians! Join us for a night filled with non-stop laughter with headliner DEAN NAPOLITANO and special guest JOE LATHAM! \nStand-up comedian Dean Napolitano is a throwback to the great comedians of yesteryear only with a modern twist that makes him one of the most prevalent comedians working today. A true storyteller with imaginative delivery that makes audiences feel as if they have been through each experience themselves. \n\n\n\nAbout Dean:\nBorn in Long Island\, New York\, Dean Napolitano first cut his teeth on the comedy scene working for clubs throughout Florida and the Southeast. Napolitano has been seen on the small screen in a variety of shows on various networks. His TV credits include\,Army Wives (lifetime) BurnNotice(TBS)  Good Morning America\, Three Rivers(CBS)\,  What About Brian(ABC)\, Heroes (NBC)\, Las Vegas(NBC)\, The Shield (FX). Dean is also a favorite among Hollywood’s elite opening for the likes of Don Rickles and Joan Rivers\, and he is on the talent roster of the world famous Messina Baker Entertainment Corporation that represents such Hollywood heavyweights as Drew Carey\, and Tim Allen. \nAbout Joe:\nBringing his British charm from ‘across the pond’\, Joe has featured on the BBC\, ITV and written for MTV over in Europe\, as well as entertaining audiences across the globe on Cruise Ships for 3 years\, before landing in the US (legally…) after meeting his wife onboard. As one of Florida’s top new comics (mainly because of the accent)\, he’s opened for the likes of Kevin Farley\, Michael Winslow and combines hisBritish wit and one liners with his tales of living at sea\, dating an American\, and driving on the wrong side of the road…and if you don’t find any of that funny\, you’ll be sure to laugh simply at the way he says Alumin”i”um and “TomAto”\n  \nBUY TICKETS
URL:https://pompanotheater.com/event/floridas-funniest-comedians-present-dean-napolitano-and-joe-latham-at-the-hive/2026-06-26/1/
LOCATION:The Hive\, 335 Dr M.L.K. Jr Blvd\, Pompano Beach\, FL\, 33060\, United States
CATEGORIES:LIVE AT THE HIVE!
ATTACH;FMTTYPE=image/jpeg:https://pompanotheater.com/wp-content/uploads/2026/03/ffc-dean.jpg
END:VEVENT
BEGIN:VEVENT
DTSTART;TZID=America/New_York:20260626T200000
DTEND;TZID=America/New_York:20260626T213000
DTSTAMP:20260420T131103
CREATED:20260305T103631Z
LAST-MODIFIED:20260406T105040Z
UID:10000124-1782504000-1782509400@pompanotheater.com
SUMMARY:Floridas Funniest Comedians Present DEAN NAPOLITANO and JOE LATHAM at The Hive
DESCRIPTION: Single Tickets: $25 | $35 \n\nFlorida’s Funniest Comedians presents\, well\, Florida’s Funniest Comedians! Join us for a night filled with non-stop laughter with headliner DEAN NAPOLITANO and special guest JOE LATHAM! \nStand-up comedian Dean Napolitano is a throwback to the great comedians of yesteryear only with a modern twist that makes him one of the most prevalent comedians working today. A true storyteller with imaginative delivery that makes audiences feel as if they have been through each experience themselves. \n\n\n\nAbout Dean:\nBorn in Long Island\, New York\, Dean Napolitano first cut his teeth on the comedy scene working for clubs throughout Florida and the Southeast. Napolitano has been seen on the small screen in a variety of shows on various networks. His TV credits include\,Army Wives (lifetime) BurnNotice(TBS)  Good Morning America\, Three Rivers(CBS)\,  What About Brian(ABC)\, Heroes (NBC)\, Las Vegas(NBC)\, The Shield (FX). Dean is also a favorite among Hollywood’s elite opening for the likes of Don Rickles and Joan Rivers\, and he is on the talent roster of the world famous Messina Baker Entertainment Corporation that represents such Hollywood heavyweights as Drew Carey\, and Tim Allen. \nAbout Joe:\nBringing his British charm from ‘across the pond’\, Joe has featured on the BBC\, ITV and written for MTV over in Europe\, as well as entertaining audiences across the globe on Cruise Ships for 3 years\, before landing in the US (legally…) after meeting his wife onboard. As one of Florida’s top new comics (mainly because of the accent)\, he’s opened for the likes of Kevin Farley\, Michael Winslow and combines hisBritish wit and one liners with his tales of living at sea\, dating an American\, and driving on the wrong side of the road…and if you don’t find any of that funny\, you’ll be sure to laugh simply at the way he says Alumin”i”um and “TomAto”\n  \nBUY TICKETS
URL:https://pompanotheater.com/event/floridas-funniest-comedians-present-dean-napolitano-and-joe-latham-at-the-hive/2026-06-26/2/
LOCATION:The Hive\, 335 Dr M.L.K. Jr Blvd\, Pompano Beach\, FL\, 33060\, United States
CATEGORIES:LIVE AT THE HIVE!
ATTACH;FMTTYPE=image/jpeg:https://pompanotheater.com/wp-content/uploads/2026/03/ffc-dean.jpg
END:VEVENT
BEGIN:VEVENT
DTSTART;TZID=America/New_York:20260627T170000
DTEND;TZID=America/New_York:20260627T183000
DTSTAMP:20260420T131103
CREATED:20260305T103631Z
LAST-MODIFIED:20260406T105040Z
UID:10000125-1782579600-1782585000@pompanotheater.com
SUMMARY:Floridas Funniest Comedians Present DEAN NAPOLITANO and JOE LATHAM at The Hive
DESCRIPTION: Single Tickets: $25 | $35 \n\nFlorida’s Funniest Comedians presents\, well\, Florida’s Funniest Comedians! Join us for a night filled with non-stop laughter with headliner DEAN NAPOLITANO and special guest JOE LATHAM! \nStand-up comedian Dean Napolitano is a throwback to the great comedians of yesteryear only with a modern twist that makes him one of the most prevalent comedians working today. A true storyteller with imaginative delivery that makes audiences feel as if they have been through each experience themselves. \n\n\n\nAbout Dean:\nBorn in Long Island\, New York\, Dean Napolitano first cut his teeth on the comedy scene working for clubs throughout Florida and the Southeast. Napolitano has been seen on the small screen in a variety of shows on various networks. His TV credits include\,Army Wives (lifetime) BurnNotice(TBS)  Good Morning America\, Three Rivers(CBS)\,  What About Brian(ABC)\, Heroes (NBC)\, Las Vegas(NBC)\, The Shield (FX). Dean is also a favorite among Hollywood’s elite opening for the likes of Don Rickles and Joan Rivers\, and he is on the talent roster of the world famous Messina Baker Entertainment Corporation that represents such Hollywood heavyweights as Drew Carey\, and Tim Allen. \nAbout Joe:\nBringing his British charm from ‘across the pond’\, Joe has featured on the BBC\, ITV and written for MTV over in Europe\, as well as entertaining audiences across the globe on Cruise Ships for 3 years\, before landing in the US (legally…) after meeting his wife onboard. As one of Florida’s top new comics (mainly because of the accent)\, he’s opened for the likes of Kevin Farley\, Michael Winslow and combines hisBritish wit and one liners with his tales of living at sea\, dating an American\, and driving on the wrong side of the road…and if you don’t find any of that funny\, you’ll be sure to laugh simply at the way he says Alumin”i”um and “TomAto”\n  \nBUY TICKETS
URL:https://pompanotheater.com/event/floridas-funniest-comedians-present-dean-napolitano-and-joe-latham-at-the-hive/2026-06-27/1/
LOCATION:The Hive\, 335 Dr M.L.K. Jr Blvd\, Pompano Beach\, FL\, 33060\, United States
CATEGORIES:LIVE AT THE HIVE!
ATTACH;FMTTYPE=image/jpeg:https://pompanotheater.com/wp-content/uploads/2026/03/ffc-dean.jpg
END:VEVENT
BEGIN:VEVENT
DTSTART;TZID=America/New_York:20260627T200000
DTEND;TZID=America/New_York:20260627T213000
DTSTAMP:20260420T131103
CREATED:20260305T103631Z
LAST-MODIFIED:20260406T105040Z
UID:10000183-1782590400-1782595800@pompanotheater.com
SUMMARY:Floridas Funniest Comedians Present DEAN NAPOLITANO and JOE LATHAM at The Hive
DESCRIPTION: Single Tickets: $25 | $35 \n\nFlorida’s Funniest Comedians presents\, well\, Florida’s Funniest Comedians! Join us for a night filled with non-stop laughter with headliner DEAN NAPOLITANO and special guest JOE LATHAM! \nStand-up comedian Dean Napolitano is a throwback to the great comedians of yesteryear only with a modern twist that makes him one of the most prevalent comedians working today. A true storyteller with imaginative delivery that makes audiences feel as if they have been through each experience themselves. \n\n\n\nAbout Dean:\nBorn in Long Island\, New York\, Dean Napolitano first cut his teeth on the comedy scene working for clubs throughout Florida and the Southeast. Napolitano has been seen on the small screen in a variety of shows on various networks. His TV credits include\,Army Wives (lifetime) BurnNotice(TBS)  Good Morning America\, Three Rivers(CBS)\,  What About Brian(ABC)\, Heroes (NBC)\, Las Vegas(NBC)\, The Shield (FX). Dean is also a favorite among Hollywood’s elite opening for the likes of Don Rickles and Joan Rivers\, and he is on the talent roster of the world famous Messina Baker Entertainment Corporation that represents such Hollywood heavyweights as Drew Carey\, and Tim Allen. \nAbout Joe:\nBringing his British charm from ‘across the pond’\, Joe has featured on the BBC\, ITV and written for MTV over in Europe\, as well as entertaining audiences across the globe on Cruise Ships for 3 years\, before landing in the US (legally…) after meeting his wife onboard. As one of Florida’s top new comics (mainly because of the accent)\, he’s opened for the likes of Kevin Farley\, Michael Winslow and combines hisBritish wit and one liners with his tales of living at sea\, dating an American\, and driving on the wrong side of the road…and if you don’t find any of that funny\, you’ll be sure to laugh simply at the way he says Alumin”i”um and “TomAto”\n  \nBUY TICKETS
URL:https://pompanotheater.com/event/floridas-funniest-comedians-present-dean-napolitano-and-joe-latham-at-the-hive/2026-06-27/2/
LOCATION:The Hive\, 335 Dr M.L.K. Jr Blvd\, Pompano Beach\, FL\, 33060\, United States
CATEGORIES:LIVE AT THE HIVE!
ATTACH;FMTTYPE=image/jpeg:https://pompanotheater.com/wp-content/uploads/2026/03/ffc-dean.jpg
END:VEVENT
BEGIN:VEVENT
DTSTART;TZID=America/New_York:20260710T170000
DTEND;TZID=America/New_York:20260710T183000
DTSTAMP:20260420T131103
CREATED:20260305T104658Z
LAST-MODIFIED:20260312T154210Z
UID:10000127-1783702800-1783708200@pompanotheater.com
SUMMARY:Floridas Funniest Comedians Present L.A. HARDY and Julie Baez at The Hive
DESCRIPTION: Single Tickets: $25 | $35 \n\nFlorida’s Funniest Comedians presents\, well\, Florida’s Funniest Comedians! Join us for a night filled with non-stop laughter with headliner L.A. HARDY and special guest Julie Baez! \n\n\nAbout L.A.: L. A. has been bringing laughter worldwide with a rich career spanning over three decades. He’s performed for the US military since 1996\, and has headlined shows from coast to coast and internationally. He taped his own Dry Bar Special\, and appeared on ‘Comics Unleashed’ with Byron Allen\, Comedy.TV\, BET ‘Comicview\,’ ESPN\, and MTV. He works regularly from Clubs to Cruise Ships and navigates topics from kids to culture\, delivering big laughs wherever he goes and he goes a lot of places. \n\n\nAbout Julie: Originally from the Dominican Republic\, Julie Baez is an upcoming comedian with stories of  her life growing up in Miami. Inspired by legendary comics like Richard Pryor and Benny Hill\, She began her comedy career at the world famous Miami Improv in Coconut Grove\, FL..  She has also performed at national Improv comedy clubs\, The Punchline\, Funny Bone and more. She is the creator and Executive Producer of Funny In Pink Productions\, an all-female comedy troupe that provides entertainment and fundraisers for non-profit organizations and charities in her community. Julie Baez is young and full of spirit in today’s diverse society\, with a little bit of Latin spice. \n  \nBUY TICKETS
URL:https://pompanotheater.com/event/floridas-funniest-comedians-present-l-a-hardy-and-julie-baez-at-the-hive/2026-07-10/1/
LOCATION:The Hive\, 335 Dr M.L.K. Jr Blvd\, Pompano Beach\, FL\, 33060\, United States
CATEGORIES:LIVE AT THE HIVE!
ATTACH;FMTTYPE=image/jpeg:https://pompanotheater.com/wp-content/uploads/2026/03/7453188.jpg
END:VEVENT
BEGIN:VEVENT
DTSTART;TZID=America/New_York:20260710T200000
DTEND;TZID=America/New_York:20260710T213000
DTSTAMP:20260420T131103
CREATED:20260305T104658Z
LAST-MODIFIED:20260312T154210Z
UID:10000128-1783713600-1783719000@pompanotheater.com
SUMMARY:Floridas Funniest Comedians Present L.A. HARDY and Julie Baez at The Hive
DESCRIPTION: Single Tickets: $25 | $35 \n\nFlorida’s Funniest Comedians presents\, well\, Florida’s Funniest Comedians! Join us for a night filled with non-stop laughter with headliner L.A. HARDY and special guest Julie Baez! \n\n\nAbout L.A.: L. A. has been bringing laughter worldwide with a rich career spanning over three decades. He’s performed for the US military since 1996\, and has headlined shows from coast to coast and internationally. He taped his own Dry Bar Special\, and appeared on ‘Comics Unleashed’ with Byron Allen\, Comedy.TV\, BET ‘Comicview\,’ ESPN\, and MTV. He works regularly from Clubs to Cruise Ships and navigates topics from kids to culture\, delivering big laughs wherever he goes and he goes a lot of places. \n\n\nAbout Julie: Originally from the Dominican Republic\, Julie Baez is an upcoming comedian with stories of  her life growing up in Miami. Inspired by legendary comics like Richard Pryor and Benny Hill\, She began her comedy career at the world famous Miami Improv in Coconut Grove\, FL..  She has also performed at national Improv comedy clubs\, The Punchline\, Funny Bone and more. She is the creator and Executive Producer of Funny In Pink Productions\, an all-female comedy troupe that provides entertainment and fundraisers for non-profit organizations and charities in her community. Julie Baez is young and full of spirit in today’s diverse society\, with a little bit of Latin spice. \n  \nBUY TICKETS
URL:https://pompanotheater.com/event/floridas-funniest-comedians-present-l-a-hardy-and-julie-baez-at-the-hive/2026-07-10/2/
LOCATION:The Hive\, 335 Dr M.L.K. Jr Blvd\, Pompano Beach\, FL\, 33060\, United States
CATEGORIES:LIVE AT THE HIVE!
ATTACH;FMTTYPE=image/jpeg:https://pompanotheater.com/wp-content/uploads/2026/03/7453188.jpg
END:VEVENT
BEGIN:VEVENT
DTSTART;TZID=America/New_York:20260711T170000
DTEND;TZID=America/New_York:20260711T183000
DTSTAMP:20260420T131103
CREATED:20260305T104658Z
LAST-MODIFIED:20260312T154210Z
UID:10000129-1783789200-1783794600@pompanotheater.com
SUMMARY:Floridas Funniest Comedians Present L.A. HARDY and Julie Baez at The Hive
DESCRIPTION: Single Tickets: $25 | $35 \n\nFlorida’s Funniest Comedians presents\, well\, Florida’s Funniest Comedians! Join us for a night filled with non-stop laughter with headliner L.A. HARDY and special guest Julie Baez! \n\n\nAbout L.A.: L. A. has been bringing laughter worldwide with a rich career spanning over three decades. He’s performed for the US military since 1996\, and has headlined shows from coast to coast and internationally. He taped his own Dry Bar Special\, and appeared on ‘Comics Unleashed’ with Byron Allen\, Comedy.TV\, BET ‘Comicview\,’ ESPN\, and MTV. He works regularly from Clubs to Cruise Ships and navigates topics from kids to culture\, delivering big laughs wherever he goes and he goes a lot of places. \n\n\nAbout Julie: Originally from the Dominican Republic\, Julie Baez is an upcoming comedian with stories of  her life growing up in Miami. Inspired by legendary comics like Richard Pryor and Benny Hill\, She began her comedy career at the world famous Miami Improv in Coconut Grove\, FL..  She has also performed at national Improv comedy clubs\, The Punchline\, Funny Bone and more. She is the creator and Executive Producer of Funny In Pink Productions\, an all-female comedy troupe that provides entertainment and fundraisers for non-profit organizations and charities in her community. Julie Baez is young and full of spirit in today’s diverse society\, with a little bit of Latin spice. \n  \nBUY TICKETS
URL:https://pompanotheater.com/event/floridas-funniest-comedians-present-l-a-hardy-and-julie-baez-at-the-hive/2026-07-11/1/
LOCATION:The Hive\, 335 Dr M.L.K. Jr Blvd\, Pompano Beach\, FL\, 33060\, United States
CATEGORIES:LIVE AT THE HIVE!
ATTACH;FMTTYPE=image/jpeg:https://pompanotheater.com/wp-content/uploads/2026/03/7453188.jpg
END:VEVENT
BEGIN:VEVENT
DTSTART;TZID=America/New_York:20260711T200000
DTEND;TZID=America/New_York:20260711T213000
DTSTAMP:20260420T131103
CREATED:20260305T104658Z
LAST-MODIFIED:20260312T154210Z
UID:10000130-1783800000-1783805400@pompanotheater.com
SUMMARY:Floridas Funniest Comedians Present L.A. HARDY and Julie Baez at The Hive
DESCRIPTION: Single Tickets: $25 | $35 \n\nFlorida’s Funniest Comedians presents\, well\, Florida’s Funniest Comedians! Join us for a night filled with non-stop laughter with headliner L.A. HARDY and special guest Julie Baez! \n\n\nAbout L.A.: L. A. has been bringing laughter worldwide with a rich career spanning over three decades. He’s performed for the US military since 1996\, and has headlined shows from coast to coast and internationally. He taped his own Dry Bar Special\, and appeared on ‘Comics Unleashed’ with Byron Allen\, Comedy.TV\, BET ‘Comicview\,’ ESPN\, and MTV. He works regularly from Clubs to Cruise Ships and navigates topics from kids to culture\, delivering big laughs wherever he goes and he goes a lot of places. \n\n\nAbout Julie: Originally from the Dominican Republic\, Julie Baez is an upcoming comedian with stories of  her life growing up in Miami. Inspired by legendary comics like Richard Pryor and Benny Hill\, She began her comedy career at the world famous Miami Improv in Coconut Grove\, FL..  She has also performed at national Improv comedy clubs\, The Punchline\, Funny Bone and more. She is the creator and Executive Producer of Funny In Pink Productions\, an all-female comedy troupe that provides entertainment and fundraisers for non-profit organizations and charities in her community. Julie Baez is young and full of spirit in today’s diverse society\, with a little bit of Latin spice. \n  \nBUY TICKETS
URL:https://pompanotheater.com/event/floridas-funniest-comedians-present-l-a-hardy-and-julie-baez-at-the-hive/2026-07-11/2/
LOCATION:The Hive\, 335 Dr M.L.K. Jr Blvd\, Pompano Beach\, FL\, 33060\, United States
CATEGORIES:LIVE AT THE HIVE!
ATTACH;FMTTYPE=image/jpeg:https://pompanotheater.com/wp-content/uploads/2026/03/7453188.jpg
END:VEVENT
BEGIN:VEVENT
DTSTART;TZID=America/New_York:20260814T170000
DTEND;TZID=America/New_York:20260814T183000
DTSTAMP:20260420T131103
CREATED:20260305T105319Z
LAST-MODIFIED:20260312T153242Z
UID:10000131-1786726800-1786732200@pompanotheater.com
SUMMARY:Floridas Funniest Comedians Present JAMES YON and NIK MACIK at The Hive
DESCRIPTION: Single Tickets: $25 | $35 \n\nFlorida’s Funniest Comedians presents\, well\, Florida’s Funniest Comedians! Join us for a night filled with non-stop laughter with headliner JAMES YON  and special guest NIK MACIK! \n\n\nAbout James: This Florida native is one of America’s hottest up and coming comedians. He can be seen each and every Sunday at 11pm hosting his own show\, “Viral Breakdown” on the Afrotainment Channel. He has performed with some of America’s top talent including Joe Torry\, Jimmy J.J Walker\, Tom Rhodes and Michael Winslow.  He was a finalist for NBC’s stand up for Diversity and appeared on the FOX comedy club. He was the 2011 and 2012 winner of the Orlando Improv’s “Clash of the Comics.” Now James  spends his time touring clubs and casinos all over the country from Orlando to Las Vegas. \n\n\nAbout Nik:Nik Macik got his start with Comedy Key West and has featured for some of the top comedians in the country including Chris Cope\, Jimmy Shubert and Rocky Dale Davis. Since moving north he has performed all over Florida and the southeast with his Gold Coast Comedy Tour! You can also see him  coming to your TV screen at home in the upcoming Feature Film: ‘Fang’ as Ron Larkin\, and the upcoming Webseries ‘Groupie: The Blueprint of a Self-Made Millionaire’ as Terri Von Buren.  \n  \n  \nBUY TICKETS
URL:https://pompanotheater.com/event/floridas-funniest-comedians-present-james-yon-and-nik-macik-at-the-hive/2026-08-14/1/
LOCATION:The Hive\, 335 Dr M.L.K. Jr Blvd\, Pompano Beach\, FL\, 33060\, United States
CATEGORIES:LIVE AT THE HIVE!
ATTACH;FMTTYPE=image/jpeg:https://pompanotheater.com/wp-content/uploads/2026/03/7NEW-78x465-James-Jon-Florida_Funniest-3.jpg
END:VEVENT
BEGIN:VEVENT
DTSTART;TZID=America/New_York:20260814T200000
DTEND;TZID=America/New_York:20260814T213000
DTSTAMP:20260420T131103
CREATED:20260305T105319Z
LAST-MODIFIED:20260312T153242Z
UID:10000118-1786737600-1786743000@pompanotheater.com
SUMMARY:Floridas Funniest Comedians Present JAMES YON and NIK MACIK at The Hive
DESCRIPTION: Single Tickets: $25 | $35 \n\nFlorida’s Funniest Comedians presents\, well\, Florida’s Funniest Comedians! Join us for a night filled with non-stop laughter with headliner JAMES YON  and special guest NIK MACIK! \n\n\nAbout James: This Florida native is one of America’s hottest up and coming comedians. He can be seen each and every Sunday at 11pm hosting his own show\, “Viral Breakdown” on the Afrotainment Channel. He has performed with some of America’s top talent including Joe Torry\, Jimmy J.J Walker\, Tom Rhodes and Michael Winslow.  He was a finalist for NBC’s stand up for Diversity and appeared on the FOX comedy club. He was the 2011 and 2012 winner of the Orlando Improv’s “Clash of the Comics.” Now James  spends his time touring clubs and casinos all over the country from Orlando to Las Vegas. \n\n\nAbout Nik:Nik Macik got his start with Comedy Key West and has featured for some of the top comedians in the country including Chris Cope\, Jimmy Shubert and Rocky Dale Davis. Since moving north he has performed all over Florida and the southeast with his Gold Coast Comedy Tour! You can also see him  coming to your TV screen at home in the upcoming Feature Film: ‘Fang’ as Ron Larkin\, and the upcoming Webseries ‘Groupie: The Blueprint of a Self-Made Millionaire’ as Terri Von Buren.  \n  \n  \nBUY TICKETS
URL:https://pompanotheater.com/event/floridas-funniest-comedians-present-james-yon-and-nik-macik-at-the-hive/2026-08-14/2/
LOCATION:The Hive\, 335 Dr M.L.K. Jr Blvd\, Pompano Beach\, FL\, 33060\, United States
CATEGORIES:LIVE AT THE HIVE!
ATTACH;FMTTYPE=image/jpeg:https://pompanotheater.com/wp-content/uploads/2026/03/7NEW-78x465-James-Jon-Florida_Funniest-3.jpg
END:VEVENT
BEGIN:VEVENT
DTSTART;TZID=America/New_York:20260815T170000
DTEND;TZID=America/New_York:20260815T183000
DTSTAMP:20260420T131103
CREATED:20260305T105319Z
LAST-MODIFIED:20260312T153242Z
UID:10000132-1786813200-1786818600@pompanotheater.com
SUMMARY:Floridas Funniest Comedians Present JAMES YON and NIK MACIK at The Hive
DESCRIPTION: Single Tickets: $25 | $35 \n\nFlorida’s Funniest Comedians presents\, well\, Florida’s Funniest Comedians! Join us for a night filled with non-stop laughter with headliner JAMES YON  and special guest NIK MACIK! \n\n\nAbout James: This Florida native is one of America’s hottest up and coming comedians. He can be seen each and every Sunday at 11pm hosting his own show\, “Viral Breakdown” on the Afrotainment Channel. He has performed with some of America’s top talent including Joe Torry\, Jimmy J.J Walker\, Tom Rhodes and Michael Winslow.  He was a finalist for NBC’s stand up for Diversity and appeared on the FOX comedy club. He was the 2011 and 2012 winner of the Orlando Improv’s “Clash of the Comics.” Now James  spends his time touring clubs and casinos all over the country from Orlando to Las Vegas. \n\n\nAbout Nik:Nik Macik got his start with Comedy Key West and has featured for some of the top comedians in the country including Chris Cope\, Jimmy Shubert and Rocky Dale Davis. Since moving north he has performed all over Florida and the southeast with his Gold Coast Comedy Tour! You can also see him  coming to your TV screen at home in the upcoming Feature Film: ‘Fang’ as Ron Larkin\, and the upcoming Webseries ‘Groupie: The Blueprint of a Self-Made Millionaire’ as Terri Von Buren.  \n  \n  \nBUY TICKETS
URL:https://pompanotheater.com/event/floridas-funniest-comedians-present-james-yon-and-nik-macik-at-the-hive/2026-08-15/1/
LOCATION:The Hive\, 335 Dr M.L.K. Jr Blvd\, Pompano Beach\, FL\, 33060\, United States
CATEGORIES:LIVE AT THE HIVE!
ATTACH;FMTTYPE=image/jpeg:https://pompanotheater.com/wp-content/uploads/2026/03/7NEW-78x465-James-Jon-Florida_Funniest-3.jpg
END:VEVENT
BEGIN:VEVENT
DTSTART;TZID=America/New_York:20260815T200000
DTEND;TZID=America/New_York:20260815T213000
DTSTAMP:20260420T131103
CREATED:20260305T105319Z
LAST-MODIFIED:20260312T153242Z
UID:10000133-1786824000-1786829400@pompanotheater.com
SUMMARY:Floridas Funniest Comedians Present JAMES YON and NIK MACIK at The Hive
DESCRIPTION: Single Tickets: $25 | $35 \n\nFlorida’s Funniest Comedians presents\, well\, Florida’s Funniest Comedians! Join us for a night filled with non-stop laughter with headliner JAMES YON  and special guest NIK MACIK! \n\n\nAbout James: This Florida native is one of America’s hottest up and coming comedians. He can be seen each and every Sunday at 11pm hosting his own show\, “Viral Breakdown” on the Afrotainment Channel. He has performed with some of America’s top talent including Joe Torry\, Jimmy J.J Walker\, Tom Rhodes and Michael Winslow.  He was a finalist for NBC’s stand up for Diversity and appeared on the FOX comedy club. He was the 2011 and 2012 winner of the Orlando Improv’s “Clash of the Comics.” Now James  spends his time touring clubs and casinos all over the country from Orlando to Las Vegas. \n\n\nAbout Nik:Nik Macik got his start with Comedy Key West and has featured for some of the top comedians in the country including Chris Cope\, Jimmy Shubert and Rocky Dale Davis. Since moving north he has performed all over Florida and the southeast with his Gold Coast Comedy Tour! You can also see him  coming to your TV screen at home in the upcoming Feature Film: ‘Fang’ as Ron Larkin\, and the upcoming Webseries ‘Groupie: The Blueprint of a Self-Made Millionaire’ as Terri Von Buren.  \n  \n  \nBUY TICKETS
URL:https://pompanotheater.com/event/floridas-funniest-comedians-present-james-yon-and-nik-macik-at-the-hive/2026-08-15/2/
LOCATION:The Hive\, 335 Dr M.L.K. Jr Blvd\, Pompano Beach\, FL\, 33060\, United States
CATEGORIES:LIVE AT THE HIVE!
ATTACH;FMTTYPE=image/jpeg:https://pompanotheater.com/wp-content/uploads/2026/03/7NEW-78x465-James-Jon-Florida_Funniest-3.jpg
END:VEVENT
END:VCALENDAR