BEGIN:VCALENDAR
VERSION:2.0
PRODID:-//Pompano Beach Live - ECPv6.15.20//NONSGML v1.0//EN
CALSCALE:GREGORIAN
METHOD:PUBLISH
X-WR-CALNAME:Pompano Beach Live
X-ORIGINAL-URL:https://pompanotheater.com
X-WR-CALDESC:Events for Pompano Beach Live
REFRESH-INTERVAL;VALUE=DURATION:PT1H
X-Robots-Tag:noindex
X-PUBLISHED-TTL:PT1H
BEGIN:VTIMEZONE
TZID:America/New_York
BEGIN:DAYLIGHT
TZOFFSETFROM:-0500
TZOFFSETTO:-0400
TZNAME:EDT
DTSTART:20260308T070000
END:DAYLIGHT
BEGIN:STANDARD
TZOFFSETFROM:-0400
TZOFFSETTO:-0500
TZNAME:EST
DTSTART:20261101T060000
END:STANDARD
BEGIN:DAYLIGHT
TZOFFSETFROM:-0500
TZOFFSETTO:-0400
TZNAME:EDT
DTSTART:20270314T070000
END:DAYLIGHT
BEGIN:STANDARD
TZOFFSETFROM:-0400
TZOFFSETTO:-0500
TZNAME:EST
DTSTART:20271107T060000
END:STANDARD
BEGIN:DAYLIGHT
TZOFFSETFROM:-0500
TZOFFSETTO:-0400
TZNAME:EDT
DTSTART:20280312T070000
END:DAYLIGHT
BEGIN:STANDARD
TZOFFSETFROM:-0400
TZOFFSETTO:-0500
TZNAME:EST
DTSTART:20281105T060000
END:STANDARD
END:VTIMEZONE
BEGIN:VEVENT
DTSTART;TZID=America/New_York:20270514T190000
DTEND;TZID=America/New_York:20270514T210000
DTSTAMP:20260421T161544
CREATED:20260408T112027Z
LAST-MODIFIED:20260408T112027Z
UID:10000175-1810321200-1810328400@pompanotheater.com
SUMMARY:HONKY TONK ANGELS
DESCRIPTION:Click Here to View Subscription Packages\n\nCreated by Ted Swindley\nIn this rollicking country jukebox musical\, join down-home ladies Angela\, Darlene and Sue Ellen as they make the decision to follow their dreams of country music stardom all the way to Nashville. On the way there\, they‘ll sing through a medley of some of the most famous\, crowd-pleasing country standards\, and form a friendship worthy of the name Honky Tonk Angels. Get your dancin‘ shoes on\, because these three girls are going on an adventure full of joy\, laughter and music to turn any show into a good old-fashioned hoedown! With songs ranging from “These Boots Are Made For Walking” and “Coal Miner‘s Daughter\,” the fun and the memories won‘t stop until those Angels pull into Nashville\, with a dream on their back and a song in their heart. \nFeaturing hits like “9 to 5\,” “I Will Always Love You\,” “Stand by Your Man\,” “Coal Miner’s Daughter\,” “These Boots Are Made for Walkin’\,” “Harper Valley PTA\,” “Rocky Top\,” “I’ll Fly Away\,” and “Amazing Grace\,” and more!  \n  \nWHAT CRTICS SAY \n“A down-home treat for country music fans!” – Orlando Sentinel \n“A highly enjoyable review!” – Chicago Tribune \n  \nBuy Tickets! Subscribe to the ‘Pompano Players’ Series.
URL:https://pompanotheater.com/event/honky-tonk-angels/2027-05-14/
LOCATION:Pompano Beach Cultural Center
CATEGORIES:Pompano Players
ATTACH;FMTTYPE=image/jpeg:https://pompanotheater.com/wp-content/uploads/2026/04/778x465_HONKY-TONK-ANGELS.jpg
END:VEVENT
BEGIN:VEVENT
DTSTART;TZID=America/New_York:20270515T140000
DTEND;TZID=America/New_York:20270515T170000
DTSTAMP:20260421T161544
CREATED:20260408T112027Z
LAST-MODIFIED:20260408T112027Z
UID:10000176-1810389600-1810400400@pompanotheater.com
SUMMARY:HONKY TONK ANGELS
DESCRIPTION:Click Here to View Subscription Packages\n\nCreated by Ted Swindley\nIn this rollicking country jukebox musical\, join down-home ladies Angela\, Darlene and Sue Ellen as they make the decision to follow their dreams of country music stardom all the way to Nashville. On the way there\, they‘ll sing through a medley of some of the most famous\, crowd-pleasing country standards\, and form a friendship worthy of the name Honky Tonk Angels. Get your dancin‘ shoes on\, because these three girls are going on an adventure full of joy\, laughter and music to turn any show into a good old-fashioned hoedown! With songs ranging from “These Boots Are Made For Walking” and “Coal Miner‘s Daughter\,” the fun and the memories won‘t stop until those Angels pull into Nashville\, with a dream on their back and a song in their heart. \nFeaturing hits like “9 to 5\,” “I Will Always Love You\,” “Stand by Your Man\,” “Coal Miner’s Daughter\,” “These Boots Are Made for Walkin’\,” “Harper Valley PTA\,” “Rocky Top\,” “I’ll Fly Away\,” and “Amazing Grace\,” and more!  \n  \nWHAT CRTICS SAY \n“A down-home treat for country music fans!” – Orlando Sentinel \n“A highly enjoyable review!” – Chicago Tribune \n  \nBuy Tickets! Subscribe to the ‘Pompano Players’ Series.
URL:https://pompanotheater.com/event/honky-tonk-angels/2027-05-15/1/
LOCATION:Pompano Beach Cultural Center
CATEGORIES:Pompano Players
ATTACH;FMTTYPE=image/jpeg:https://pompanotheater.com/wp-content/uploads/2026/04/778x465_HONKY-TONK-ANGELS.jpg
END:VEVENT
BEGIN:VEVENT
DTSTART;TZID=America/New_York:20270515T190000
DTEND;TZID=America/New_York:20270515T210000
DTSTAMP:20260421T161544
CREATED:20260408T112027Z
LAST-MODIFIED:20260408T112027Z
UID:10000177-1810407600-1810414800@pompanotheater.com
SUMMARY:HONKY TONK ANGELS
DESCRIPTION:Click Here to View Subscription Packages\n\nCreated by Ted Swindley\nIn this rollicking country jukebox musical\, join down-home ladies Angela\, Darlene and Sue Ellen as they make the decision to follow their dreams of country music stardom all the way to Nashville. On the way there\, they‘ll sing through a medley of some of the most famous\, crowd-pleasing country standards\, and form a friendship worthy of the name Honky Tonk Angels. Get your dancin‘ shoes on\, because these three girls are going on an adventure full of joy\, laughter and music to turn any show into a good old-fashioned hoedown! With songs ranging from “These Boots Are Made For Walking” and “Coal Miner‘s Daughter\,” the fun and the memories won‘t stop until those Angels pull into Nashville\, with a dream on their back and a song in their heart. \nFeaturing hits like “9 to 5\,” “I Will Always Love You\,” “Stand by Your Man\,” “Coal Miner’s Daughter\,” “These Boots Are Made for Walkin’\,” “Harper Valley PTA\,” “Rocky Top\,” “I’ll Fly Away\,” and “Amazing Grace\,” and more!  \n  \nWHAT CRTICS SAY \n“A down-home treat for country music fans!” – Orlando Sentinel \n“A highly enjoyable review!” – Chicago Tribune \n  \nBuy Tickets! Subscribe to the ‘Pompano Players’ Series.
URL:https://pompanotheater.com/event/honky-tonk-angels/2027-05-15/2/
LOCATION:Pompano Beach Cultural Center
CATEGORIES:Pompano Players
ATTACH;FMTTYPE=image/jpeg:https://pompanotheater.com/wp-content/uploads/2026/04/778x465_HONKY-TONK-ANGELS.jpg
END:VEVENT
BEGIN:VEVENT
DTSTART;TZID=America/New_York:20270516T140000
DTEND;TZID=America/New_York:20270516T170000
DTSTAMP:20260421T161544
CREATED:20260408T112027Z
LAST-MODIFIED:20260408T112027Z
UID:10000178-1810476000-1810486800@pompanotheater.com
SUMMARY:HONKY TONK ANGELS
DESCRIPTION:Click Here to View Subscription Packages\n\nCreated by Ted Swindley\nIn this rollicking country jukebox musical\, join down-home ladies Angela\, Darlene and Sue Ellen as they make the decision to follow their dreams of country music stardom all the way to Nashville. On the way there\, they‘ll sing through a medley of some of the most famous\, crowd-pleasing country standards\, and form a friendship worthy of the name Honky Tonk Angels. Get your dancin‘ shoes on\, because these three girls are going on an adventure full of joy\, laughter and music to turn any show into a good old-fashioned hoedown! With songs ranging from “These Boots Are Made For Walking” and “Coal Miner‘s Daughter\,” the fun and the memories won‘t stop until those Angels pull into Nashville\, with a dream on their back and a song in their heart. \nFeaturing hits like “9 to 5\,” “I Will Always Love You\,” “Stand by Your Man\,” “Coal Miner’s Daughter\,” “These Boots Are Made for Walkin’\,” “Harper Valley PTA\,” “Rocky Top\,” “I’ll Fly Away\,” and “Amazing Grace\,” and more!  \n  \nWHAT CRTICS SAY \n“A down-home treat for country music fans!” – Orlando Sentinel \n“A highly enjoyable review!” – Chicago Tribune \n  \nBuy Tickets! Subscribe to the ‘Pompano Players’ Series.
URL:https://pompanotheater.com/event/honky-tonk-angels/2027-05-16/
LOCATION:Pompano Beach Cultural Center
CATEGORIES:Pompano Players
ATTACH;FMTTYPE=image/jpeg:https://pompanotheater.com/wp-content/uploads/2026/04/778x465_HONKY-TONK-ANGELS.jpg
END:VEVENT
BEGIN:VEVENT
DTSTART;TZID=America/New_York:20270521T190000
DTEND;TZID=America/New_York:20270521T210000
DTSTAMP:20260421T161544
CREATED:20260408T112027Z
LAST-MODIFIED:20260408T112027Z
UID:10000179-1810926000-1810933200@pompanotheater.com
SUMMARY:HONKY TONK ANGELS
DESCRIPTION:Click Here to View Subscription Packages\n\nCreated by Ted Swindley\nIn this rollicking country jukebox musical\, join down-home ladies Angela\, Darlene and Sue Ellen as they make the decision to follow their dreams of country music stardom all the way to Nashville. On the way there\, they‘ll sing through a medley of some of the most famous\, crowd-pleasing country standards\, and form a friendship worthy of the name Honky Tonk Angels. Get your dancin‘ shoes on\, because these three girls are going on an adventure full of joy\, laughter and music to turn any show into a good old-fashioned hoedown! With songs ranging from “These Boots Are Made For Walking” and “Coal Miner‘s Daughter\,” the fun and the memories won‘t stop until those Angels pull into Nashville\, with a dream on their back and a song in their heart. \nFeaturing hits like “9 to 5\,” “I Will Always Love You\,” “Stand by Your Man\,” “Coal Miner’s Daughter\,” “These Boots Are Made for Walkin’\,” “Harper Valley PTA\,” “Rocky Top\,” “I’ll Fly Away\,” and “Amazing Grace\,” and more!  \n  \nWHAT CRTICS SAY \n“A down-home treat for country music fans!” – Orlando Sentinel \n“A highly enjoyable review!” – Chicago Tribune \n  \nBuy Tickets! Subscribe to the ‘Pompano Players’ Series.
URL:https://pompanotheater.com/event/honky-tonk-angels/2027-05-21/
LOCATION:Pompano Beach Cultural Center
CATEGORIES:Pompano Players
ATTACH;FMTTYPE=image/jpeg:https://pompanotheater.com/wp-content/uploads/2026/04/778x465_HONKY-TONK-ANGELS.jpg
END:VEVENT
BEGIN:VEVENT
DTSTART;TZID=America/New_York:20270522T140000
DTEND;TZID=America/New_York:20270522T170000
DTSTAMP:20260421T161544
CREATED:20260408T112027Z
LAST-MODIFIED:20260408T112027Z
UID:10000180-1810994400-1811005200@pompanotheater.com
SUMMARY:HONKY TONK ANGELS
DESCRIPTION:Click Here to View Subscription Packages\n\nCreated by Ted Swindley\nIn this rollicking country jukebox musical\, join down-home ladies Angela\, Darlene and Sue Ellen as they make the decision to follow their dreams of country music stardom all the way to Nashville. On the way there\, they‘ll sing through a medley of some of the most famous\, crowd-pleasing country standards\, and form a friendship worthy of the name Honky Tonk Angels. Get your dancin‘ shoes on\, because these three girls are going on an adventure full of joy\, laughter and music to turn any show into a good old-fashioned hoedown! With songs ranging from “These Boots Are Made For Walking” and “Coal Miner‘s Daughter\,” the fun and the memories won‘t stop until those Angels pull into Nashville\, with a dream on their back and a song in their heart. \nFeaturing hits like “9 to 5\,” “I Will Always Love You\,” “Stand by Your Man\,” “Coal Miner’s Daughter\,” “These Boots Are Made for Walkin’\,” “Harper Valley PTA\,” “Rocky Top\,” “I’ll Fly Away\,” and “Amazing Grace\,” and more!  \n  \nWHAT CRTICS SAY \n“A down-home treat for country music fans!” – Orlando Sentinel \n“A highly enjoyable review!” – Chicago Tribune \n  \nBuy Tickets! Subscribe to the ‘Pompano Players’ Series.
URL:https://pompanotheater.com/event/honky-tonk-angels/2027-05-22/1/
LOCATION:Pompano Beach Cultural Center
CATEGORIES:Pompano Players
ATTACH;FMTTYPE=image/jpeg:https://pompanotheater.com/wp-content/uploads/2026/04/778x465_HONKY-TONK-ANGELS.jpg
END:VEVENT
BEGIN:VEVENT
DTSTART;TZID=America/New_York:20270522T190000
DTEND;TZID=America/New_York:20270522T210000
DTSTAMP:20260421T161544
CREATED:20260408T112027Z
LAST-MODIFIED:20260408T112027Z
UID:10000181-1811012400-1811019600@pompanotheater.com
SUMMARY:HONKY TONK ANGELS
DESCRIPTION:Click Here to View Subscription Packages\n\nCreated by Ted Swindley\nIn this rollicking country jukebox musical\, join down-home ladies Angela\, Darlene and Sue Ellen as they make the decision to follow their dreams of country music stardom all the way to Nashville. On the way there\, they‘ll sing through a medley of some of the most famous\, crowd-pleasing country standards\, and form a friendship worthy of the name Honky Tonk Angels. Get your dancin‘ shoes on\, because these three girls are going on an adventure full of joy\, laughter and music to turn any show into a good old-fashioned hoedown! With songs ranging from “These Boots Are Made For Walking” and “Coal Miner‘s Daughter\,” the fun and the memories won‘t stop until those Angels pull into Nashville\, with a dream on their back and a song in their heart. \nFeaturing hits like “9 to 5\,” “I Will Always Love You\,” “Stand by Your Man\,” “Coal Miner’s Daughter\,” “These Boots Are Made for Walkin’\,” “Harper Valley PTA\,” “Rocky Top\,” “I’ll Fly Away\,” and “Amazing Grace\,” and more!  \n  \nWHAT CRTICS SAY \n“A down-home treat for country music fans!” – Orlando Sentinel \n“A highly enjoyable review!” – Chicago Tribune \n  \nBuy Tickets! Subscribe to the ‘Pompano Players’ Series.
URL:https://pompanotheater.com/event/honky-tonk-angels/2027-05-22/2/
LOCATION:Pompano Beach Cultural Center
CATEGORIES:Pompano Players
ATTACH;FMTTYPE=image/jpeg:https://pompanotheater.com/wp-content/uploads/2026/04/778x465_HONKY-TONK-ANGELS.jpg
END:VEVENT
BEGIN:VEVENT
DTSTART;TZID=America/New_York:20270523T140000
DTEND;TZID=America/New_York:20270523T170000
DTSTAMP:20260421T161544
CREATED:20260408T112027Z
LAST-MODIFIED:20260408T112027Z
UID:10000182-1811080800-1811091600@pompanotheater.com
SUMMARY:HONKY TONK ANGELS
DESCRIPTION:Click Here to View Subscription Packages\n\nCreated by Ted Swindley\nIn this rollicking country jukebox musical\, join down-home ladies Angela\, Darlene and Sue Ellen as they make the decision to follow their dreams of country music stardom all the way to Nashville. On the way there\, they‘ll sing through a medley of some of the most famous\, crowd-pleasing country standards\, and form a friendship worthy of the name Honky Tonk Angels. Get your dancin‘ shoes on\, because these three girls are going on an adventure full of joy\, laughter and music to turn any show into a good old-fashioned hoedown! With songs ranging from “These Boots Are Made For Walking” and “Coal Miner‘s Daughter\,” the fun and the memories won‘t stop until those Angels pull into Nashville\, with a dream on their back and a song in their heart. \nFeaturing hits like “9 to 5\,” “I Will Always Love You\,” “Stand by Your Man\,” “Coal Miner’s Daughter\,” “These Boots Are Made for Walkin’\,” “Harper Valley PTA\,” “Rocky Top\,” “I’ll Fly Away\,” and “Amazing Grace\,” and more!  \n  \nWHAT CRTICS SAY \n“A down-home treat for country music fans!” – Orlando Sentinel \n“A highly enjoyable review!” – Chicago Tribune \n  \nBuy Tickets! Subscribe to the ‘Pompano Players’ Series.
URL:https://pompanotheater.com/event/honky-tonk-angels/2027-05-23/
LOCATION:Pompano Beach Cultural Center
CATEGORIES:Pompano Players
ATTACH;FMTTYPE=image/jpeg:https://pompanotheater.com/wp-content/uploads/2026/04/778x465_HONKY-TONK-ANGELS.jpg
END:VEVENT
END:VCALENDAR