BEGIN:VCALENDAR
VERSION:2.0
PRODID:-//Pompano Beach Live - ECPv6.15.20//NONSGML v1.0//EN
CALSCALE:GREGORIAN
METHOD:PUBLISH
X-WR-CALNAME:Pompano Beach Live
X-ORIGINAL-URL:https://pompanotheater.com
X-WR-CALDESC:Events for Pompano Beach Live
REFRESH-INTERVAL;VALUE=DURATION:PT1H
X-Robots-Tag:noindex
X-PUBLISHED-TTL:PT1H
BEGIN:VTIMEZONE
TZID:America/New_York
BEGIN:DAYLIGHT
TZOFFSETFROM:-0500
TZOFFSETTO:-0400
TZNAME:EDT
DTSTART:20260308T070000
END:DAYLIGHT
BEGIN:STANDARD
TZOFFSETFROM:-0400
TZOFFSETTO:-0500
TZNAME:EST
DTSTART:20261101T060000
END:STANDARD
BEGIN:DAYLIGHT
TZOFFSETFROM:-0500
TZOFFSETTO:-0400
TZNAME:EDT
DTSTART:20270314T070000
END:DAYLIGHT
BEGIN:STANDARD
TZOFFSETFROM:-0400
TZOFFSETTO:-0500
TZNAME:EST
DTSTART:20271107T060000
END:STANDARD
BEGIN:DAYLIGHT
TZOFFSETFROM:-0500
TZOFFSETTO:-0400
TZNAME:EDT
DTSTART:20280312T070000
END:DAYLIGHT
BEGIN:STANDARD
TZOFFSETFROM:-0400
TZOFFSETTO:-0500
TZNAME:EST
DTSTART:20281105T060000
END:STANDARD
END:VTIMEZONE
BEGIN:VEVENT
DTSTART;TZID=America/New_York:20270212T190000
DTEND;TZID=America/New_York:20270212T210000
DTSTAMP:20260421T131452
CREATED:20260407T133433Z
LAST-MODIFIED:20260407T133752Z
UID:10000159-1802458800-1802466000@pompanotheater.com
SUMMARY:Sh-Boom! Life Could Be A Dream
DESCRIPTION:Click Here to View Subscription Packages \n\nCreated by Roger Bean\n\n\n\n\nDenny and the Dreamers enter a radio contest and shoot for the stars in this hit doo-wop musical\, featuring all of your favorite ‘60s hits. \n\n\n\n\nMeet Denny and the Dreamers\, a fledgling doo-wop singing group preparing to enter the Big Whopper Radio contest to realize their dreams of making it to the big time! Trouble comes in the form of Lois\, who arrives to put some polish on the boys. Denny falls in love\, Wally falls in line\, Eugene falls apart\, then along comes handsome heartthrob Duke to send the whole situation spinning. The ‘60s hits say it all: “Fools Fall in Love\,” “Tears on my Pillow\,” “Runaround Sue\,” “Earth Angel\,” “Stay\,” “Unchained Melody\,” “Lonely Teardrops” and “The Glory of Love.” Winner of the Los Angeles Drama Critics Circle Best Musical Award\, Sh-Boom! Life Could Be a Dream will leave you laughing\, singing\, and cheering. Let’s hear it for the boys! \nWHAT CRTICS SAY \n\n\n\n\n“So frothy\, it floats.” – Los Angeles Times \n“The title neatly sums up the euphoric charge generated by this feel-good musical.” – Backstage  \n“Spectacular! Affectionate and clever… a rousing good-time musical!” –Los Angeles Weekly   \n\n\n\n\n  \nBuy Tickets! Subscribe to the ‘Pompano Players’ Series.
URL:https://pompanotheater.com/event/sh-boom-life-could-be-a-dream/2027-02-12/
LOCATION:Pompano Beach Cultural Center
CATEGORIES:Pompano Players
ATTACH;FMTTYPE=image/jpeg:https://pompanotheater.com/wp-content/uploads/2026/04/15.jpg
END:VEVENT
BEGIN:VEVENT
DTSTART;TZID=America/New_York:20270219T190000
DTEND;TZID=America/New_York:20270219T210000
DTSTAMP:20260421T131452
CREATED:20260407T133433Z
LAST-MODIFIED:20260407T133752Z
UID:10000160-1803063600-1803070800@pompanotheater.com
SUMMARY:Sh-Boom! Life Could Be A Dream
DESCRIPTION:Click Here to View Subscription Packages \n\nCreated by Roger Bean\n\n\n\n\nDenny and the Dreamers enter a radio contest and shoot for the stars in this hit doo-wop musical\, featuring all of your favorite ‘60s hits. \n\n\n\n\nMeet Denny and the Dreamers\, a fledgling doo-wop singing group preparing to enter the Big Whopper Radio contest to realize their dreams of making it to the big time! Trouble comes in the form of Lois\, who arrives to put some polish on the boys. Denny falls in love\, Wally falls in line\, Eugene falls apart\, then along comes handsome heartthrob Duke to send the whole situation spinning. The ‘60s hits say it all: “Fools Fall in Love\,” “Tears on my Pillow\,” “Runaround Sue\,” “Earth Angel\,” “Stay\,” “Unchained Melody\,” “Lonely Teardrops” and “The Glory of Love.” Winner of the Los Angeles Drama Critics Circle Best Musical Award\, Sh-Boom! Life Could Be a Dream will leave you laughing\, singing\, and cheering. Let’s hear it for the boys! \nWHAT CRTICS SAY \n\n\n\n\n“So frothy\, it floats.” – Los Angeles Times \n“The title neatly sums up the euphoric charge generated by this feel-good musical.” – Backstage  \n“Spectacular! Affectionate and clever… a rousing good-time musical!” –Los Angeles Weekly   \n\n\n\n\n  \nBuy Tickets! Subscribe to the ‘Pompano Players’ Series.
URL:https://pompanotheater.com/event/sh-boom-life-could-be-a-dream/2027-02-19/
LOCATION:Pompano Beach Cultural Center
CATEGORIES:Pompano Players
ATTACH;FMTTYPE=image/jpeg:https://pompanotheater.com/wp-content/uploads/2026/04/15.jpg
END:VEVENT
BEGIN:VEVENT
DTSTART;TZID=America/New_York:20270220T140000
DTEND;TZID=America/New_York:20270220T170000
DTSTAMP:20260421T131452
CREATED:20260407T133433Z
LAST-MODIFIED:20260407T133752Z
UID:10000161-1803132000-1803142800@pompanotheater.com
SUMMARY:Sh-Boom! Life Could Be A Dream
DESCRIPTION:Click Here to View Subscription Packages \n\nCreated by Roger Bean\n\n\n\n\nDenny and the Dreamers enter a radio contest and shoot for the stars in this hit doo-wop musical\, featuring all of your favorite ‘60s hits. \n\n\n\n\nMeet Denny and the Dreamers\, a fledgling doo-wop singing group preparing to enter the Big Whopper Radio contest to realize their dreams of making it to the big time! Trouble comes in the form of Lois\, who arrives to put some polish on the boys. Denny falls in love\, Wally falls in line\, Eugene falls apart\, then along comes handsome heartthrob Duke to send the whole situation spinning. The ‘60s hits say it all: “Fools Fall in Love\,” “Tears on my Pillow\,” “Runaround Sue\,” “Earth Angel\,” “Stay\,” “Unchained Melody\,” “Lonely Teardrops” and “The Glory of Love.” Winner of the Los Angeles Drama Critics Circle Best Musical Award\, Sh-Boom! Life Could Be a Dream will leave you laughing\, singing\, and cheering. Let’s hear it for the boys! \nWHAT CRTICS SAY \n\n\n\n\n“So frothy\, it floats.” – Los Angeles Times \n“The title neatly sums up the euphoric charge generated by this feel-good musical.” – Backstage  \n“Spectacular! Affectionate and clever… a rousing good-time musical!” –Los Angeles Weekly   \n\n\n\n\n  \nBuy Tickets! Subscribe to the ‘Pompano Players’ Series.
URL:https://pompanotheater.com/event/sh-boom-life-could-be-a-dream/2027-02-20/1/
LOCATION:Pompano Beach Cultural Center
CATEGORIES:Pompano Players
ATTACH;FMTTYPE=image/jpeg:https://pompanotheater.com/wp-content/uploads/2026/04/15.jpg
END:VEVENT
BEGIN:VEVENT
DTSTART;TZID=America/New_York:20270220T190000
DTEND;TZID=America/New_York:20270220T210000
DTSTAMP:20260421T131452
CREATED:20260407T133433Z
LAST-MODIFIED:20260407T133752Z
UID:10000162-1803150000-1803157200@pompanotheater.com
SUMMARY:Sh-Boom! Life Could Be A Dream
DESCRIPTION:Click Here to View Subscription Packages \n\nCreated by Roger Bean\n\n\n\n\nDenny and the Dreamers enter a radio contest and shoot for the stars in this hit doo-wop musical\, featuring all of your favorite ‘60s hits. \n\n\n\n\nMeet Denny and the Dreamers\, a fledgling doo-wop singing group preparing to enter the Big Whopper Radio contest to realize their dreams of making it to the big time! Trouble comes in the form of Lois\, who arrives to put some polish on the boys. Denny falls in love\, Wally falls in line\, Eugene falls apart\, then along comes handsome heartthrob Duke to send the whole situation spinning. The ‘60s hits say it all: “Fools Fall in Love\,” “Tears on my Pillow\,” “Runaround Sue\,” “Earth Angel\,” “Stay\,” “Unchained Melody\,” “Lonely Teardrops” and “The Glory of Love.” Winner of the Los Angeles Drama Critics Circle Best Musical Award\, Sh-Boom! Life Could Be a Dream will leave you laughing\, singing\, and cheering. Let’s hear it for the boys! \nWHAT CRTICS SAY \n\n\n\n\n“So frothy\, it floats.” – Los Angeles Times \n“The title neatly sums up the euphoric charge generated by this feel-good musical.” – Backstage  \n“Spectacular! Affectionate and clever… a rousing good-time musical!” –Los Angeles Weekly   \n\n\n\n\n  \nBuy Tickets! Subscribe to the ‘Pompano Players’ Series.
URL:https://pompanotheater.com/event/sh-boom-life-could-be-a-dream/2027-02-20/2/
LOCATION:Pompano Beach Cultural Center
CATEGORIES:Pompano Players
ATTACH;FMTTYPE=image/jpeg:https://pompanotheater.com/wp-content/uploads/2026/04/15.jpg
END:VEVENT
BEGIN:VEVENT
DTSTART;TZID=America/New_York:20270221T140000
DTEND;TZID=America/New_York:20270221T170000
DTSTAMP:20260421T131452
CREATED:20260407T133433Z
LAST-MODIFIED:20260407T133752Z
UID:10000163-1803218400-1803229200@pompanotheater.com
SUMMARY:Sh-Boom! Life Could Be A Dream
DESCRIPTION:Click Here to View Subscription Packages \n\nCreated by Roger Bean\n\n\n\n\nDenny and the Dreamers enter a radio contest and shoot for the stars in this hit doo-wop musical\, featuring all of your favorite ‘60s hits. \n\n\n\n\nMeet Denny and the Dreamers\, a fledgling doo-wop singing group preparing to enter the Big Whopper Radio contest to realize their dreams of making it to the big time! Trouble comes in the form of Lois\, who arrives to put some polish on the boys. Denny falls in love\, Wally falls in line\, Eugene falls apart\, then along comes handsome heartthrob Duke to send the whole situation spinning. The ‘60s hits say it all: “Fools Fall in Love\,” “Tears on my Pillow\,” “Runaround Sue\,” “Earth Angel\,” “Stay\,” “Unchained Melody\,” “Lonely Teardrops” and “The Glory of Love.” Winner of the Los Angeles Drama Critics Circle Best Musical Award\, Sh-Boom! Life Could Be a Dream will leave you laughing\, singing\, and cheering. Let’s hear it for the boys! \nWHAT CRTICS SAY \n\n\n\n\n“So frothy\, it floats.” – Los Angeles Times \n“The title neatly sums up the euphoric charge generated by this feel-good musical.” – Backstage  \n“Spectacular! Affectionate and clever… a rousing good-time musical!” –Los Angeles Weekly   \n\n\n\n\n  \nBuy Tickets! Subscribe to the ‘Pompano Players’ Series.
URL:https://pompanotheater.com/event/sh-boom-life-could-be-a-dream/2027-02-21/
LOCATION:Pompano Beach Cultural Center
CATEGORIES:Pompano Players
ATTACH;FMTTYPE=image/jpeg:https://pompanotheater.com/wp-content/uploads/2026/04/15.jpg
END:VEVENT
BEGIN:VEVENT
DTSTART;TZID=America/New_York:20270313T140000
DTEND;TZID=America/New_York:20270313T170000
DTSTAMP:20260421T131452
CREATED:20260407T133433Z
LAST-MODIFIED:20260407T133752Z
UID:10000164-1804946400-1804957200@pompanotheater.com
SUMMARY:Sh-Boom! Life Could Be A Dream
DESCRIPTION:Click Here to View Subscription Packages \n\nCreated by Roger Bean\n\n\n\n\nDenny and the Dreamers enter a radio contest and shoot for the stars in this hit doo-wop musical\, featuring all of your favorite ‘60s hits. \n\n\n\n\nMeet Denny and the Dreamers\, a fledgling doo-wop singing group preparing to enter the Big Whopper Radio contest to realize their dreams of making it to the big time! Trouble comes in the form of Lois\, who arrives to put some polish on the boys. Denny falls in love\, Wally falls in line\, Eugene falls apart\, then along comes handsome heartthrob Duke to send the whole situation spinning. The ‘60s hits say it all: “Fools Fall in Love\,” “Tears on my Pillow\,” “Runaround Sue\,” “Earth Angel\,” “Stay\,” “Unchained Melody\,” “Lonely Teardrops” and “The Glory of Love.” Winner of the Los Angeles Drama Critics Circle Best Musical Award\, Sh-Boom! Life Could Be a Dream will leave you laughing\, singing\, and cheering. Let’s hear it for the boys! \nWHAT CRTICS SAY \n\n\n\n\n“So frothy\, it floats.” – Los Angeles Times \n“The title neatly sums up the euphoric charge generated by this feel-good musical.” – Backstage  \n“Spectacular! Affectionate and clever… a rousing good-time musical!” –Los Angeles Weekly   \n\n\n\n\n  \nBuy Tickets! Subscribe to the ‘Pompano Players’ Series.
URL:https://pompanotheater.com/event/sh-boom-life-could-be-a-dream/2027-03-13/1/
LOCATION:Pompano Beach Cultural Center
CATEGORIES:Pompano Players
ATTACH;FMTTYPE=image/jpeg:https://pompanotheater.com/wp-content/uploads/2026/04/15.jpg
END:VEVENT
BEGIN:VEVENT
DTSTART;TZID=America/New_York:20270313T190000
DTEND;TZID=America/New_York:20270313T210000
DTSTAMP:20260421T131452
CREATED:20260407T133433Z
LAST-MODIFIED:20260407T133752Z
UID:10000165-1804964400-1804971600@pompanotheater.com
SUMMARY:Sh-Boom! Life Could Be A Dream
DESCRIPTION:Click Here to View Subscription Packages \n\nCreated by Roger Bean\n\n\n\n\nDenny and the Dreamers enter a radio contest and shoot for the stars in this hit doo-wop musical\, featuring all of your favorite ‘60s hits. \n\n\n\n\nMeet Denny and the Dreamers\, a fledgling doo-wop singing group preparing to enter the Big Whopper Radio contest to realize their dreams of making it to the big time! Trouble comes in the form of Lois\, who arrives to put some polish on the boys. Denny falls in love\, Wally falls in line\, Eugene falls apart\, then along comes handsome heartthrob Duke to send the whole situation spinning. The ‘60s hits say it all: “Fools Fall in Love\,” “Tears on my Pillow\,” “Runaround Sue\,” “Earth Angel\,” “Stay\,” “Unchained Melody\,” “Lonely Teardrops” and “The Glory of Love.” Winner of the Los Angeles Drama Critics Circle Best Musical Award\, Sh-Boom! Life Could Be a Dream will leave you laughing\, singing\, and cheering. Let’s hear it for the boys! \nWHAT CRTICS SAY \n\n\n\n\n“So frothy\, it floats.” – Los Angeles Times \n“The title neatly sums up the euphoric charge generated by this feel-good musical.” – Backstage  \n“Spectacular! Affectionate and clever… a rousing good-time musical!” –Los Angeles Weekly   \n\n\n\n\n  \nBuy Tickets! Subscribe to the ‘Pompano Players’ Series.
URL:https://pompanotheater.com/event/sh-boom-life-could-be-a-dream/2027-03-13/2/
LOCATION:Pompano Beach Cultural Center
CATEGORIES:Pompano Players
ATTACH;FMTTYPE=image/jpeg:https://pompanotheater.com/wp-content/uploads/2026/04/15.jpg
END:VEVENT
BEGIN:VEVENT
DTSTART;TZID=America/New_York:20270314T140000
DTEND;TZID=America/New_York:20270314T170000
DTSTAMP:20260421T131452
CREATED:20260407T133433Z
LAST-MODIFIED:20260407T133752Z
UID:10000166-1805032800-1805043600@pompanotheater.com
SUMMARY:Sh-Boom! Life Could Be A Dream
DESCRIPTION:Click Here to View Subscription Packages \n\nCreated by Roger Bean\n\n\n\n\nDenny and the Dreamers enter a radio contest and shoot for the stars in this hit doo-wop musical\, featuring all of your favorite ‘60s hits. \n\n\n\n\nMeet Denny and the Dreamers\, a fledgling doo-wop singing group preparing to enter the Big Whopper Radio contest to realize their dreams of making it to the big time! Trouble comes in the form of Lois\, who arrives to put some polish on the boys. Denny falls in love\, Wally falls in line\, Eugene falls apart\, then along comes handsome heartthrob Duke to send the whole situation spinning. The ‘60s hits say it all: “Fools Fall in Love\,” “Tears on my Pillow\,” “Runaround Sue\,” “Earth Angel\,” “Stay\,” “Unchained Melody\,” “Lonely Teardrops” and “The Glory of Love.” Winner of the Los Angeles Drama Critics Circle Best Musical Award\, Sh-Boom! Life Could Be a Dream will leave you laughing\, singing\, and cheering. Let’s hear it for the boys! \nWHAT CRTICS SAY \n\n\n\n\n“So frothy\, it floats.” – Los Angeles Times \n“The title neatly sums up the euphoric charge generated by this feel-good musical.” – Backstage  \n“Spectacular! Affectionate and clever… a rousing good-time musical!” –Los Angeles Weekly   \n\n\n\n\n  \nBuy Tickets! Subscribe to the ‘Pompano Players’ Series.
URL:https://pompanotheater.com/event/sh-boom-life-could-be-a-dream/2027-03-14/
LOCATION:Pompano Beach Cultural Center
CATEGORIES:Pompano Players
ATTACH;FMTTYPE=image/jpeg:https://pompanotheater.com/wp-content/uploads/2026/04/15.jpg
END:VEVENT
END:VCALENDAR