BEGIN:VCALENDAR
VERSION:2.0
PRODID:-//Pompano Beach Live - ECPv6.15.20//NONSGML v1.0//EN
CALSCALE:GREGORIAN
METHOD:PUBLISH
X-WR-CALNAME:Pompano Beach Live
X-ORIGINAL-URL:https://pompanotheater.com
X-WR-CALDESC:Events for Pompano Beach Live
REFRESH-INTERVAL;VALUE=DURATION:PT1H
X-Robots-Tag:noindex
X-PUBLISHED-TTL:PT1H
BEGIN:VTIMEZONE
TZID:America/New_York
BEGIN:DAYLIGHT
TZOFFSETFROM:-0500
TZOFFSETTO:-0400
TZNAME:EDT
DTSTART:20260308T070000
END:DAYLIGHT
BEGIN:STANDARD
TZOFFSETFROM:-0400
TZOFFSETTO:-0500
TZNAME:EST
DTSTART:20261101T060000
END:STANDARD
BEGIN:DAYLIGHT
TZOFFSETFROM:-0500
TZOFFSETTO:-0400
TZNAME:EDT
DTSTART:20270314T070000
END:DAYLIGHT
BEGIN:STANDARD
TZOFFSETFROM:-0400
TZOFFSETTO:-0500
TZNAME:EST
DTSTART:20271107T060000
END:STANDARD
BEGIN:DAYLIGHT
TZOFFSETFROM:-0500
TZOFFSETTO:-0400
TZNAME:EDT
DTSTART:20280312T070000
END:DAYLIGHT
BEGIN:STANDARD
TZOFFSETFROM:-0400
TZOFFSETTO:-0500
TZNAME:EST
DTSTART:20281105T060000
END:STANDARD
END:VTIMEZONE
BEGIN:VEVENT
DTSTART;TZID=America/New_York:20270212T190000
DTEND;TZID=America/New_York:20270212T210000
DTSTAMP:20260421T131400
CREATED:20260408T112655Z
LAST-MODIFIED:20260408T112655Z
UID:10000151-1802458800-1802466000@pompanotheater.com
SUMMARY:MY WAY: A MUSICAL TRIBUTE TO FRANK SINATRA
DESCRIPTION:Click Here to View Subscription Packages \n\nConceived and Created by David Grapes and Todd Olson\, Original Book by Todd Olson\, Original production directed by David Grapes\, Arrangements by Vince di Mura\, SummerWind Productions.\nMY WAY is an award-winning\, finger-snapping revue featuring countless songs recorded by crooning legend Frank Sinatra.\nA drop-dead\, too-good-too miss musical revue!\n \nFrom the king of swing to the Rat Pack\, Ol’ Blue Eyes charmed his way into the hearts of millions. Celebrate the pivotal moments of Frank Sinatra’s remarkable five-decade career with a journey through his greatest hits. Four performers sing more than 50 classics such as “I’ve Got the World on a String\,” “Fly Me to the Moon” and “New York\, New York.” Experience the elegance of “The Chairman of the Board” as you’re transported back to the era of supper clubs\, vintage Las Vegas and the perfect martini! Let’s fall in love and fly away with the music of one of the most celebrated recording artists of all time\, just as he would have wanted it: a few stories\, a few drinks\, and plenty of knockout tunes. \nContaining 55 incredible songs from the Great American Songbook\, MY WAY celebrates the mystique and the music of one of music’s most iconic singers! \n  \nBuy Tickets! Subscribe to the ‘Pompano Players’ Series
URL:https://pompanotheater.com/event/my-way-a-musical-tribute-to-frank-sinatra/2027-02-12/
LOCATION:Pompano Beach Cultural Center
CATEGORIES:Pompano Players
ATTACH;FMTTYPE=image/jpeg:https://pompanotheater.com/wp-content/uploads/2026/04/778x465_My-Way.jpg
END:VEVENT
BEGIN:VEVENT
DTSTART;TZID=America/New_York:20270213T140000
DTEND;TZID=America/New_York:20270213T170000
DTSTAMP:20260421T131400
CREATED:20260408T112655Z
LAST-MODIFIED:20260408T112655Z
UID:10000152-1802527200-1802538000@pompanotheater.com
SUMMARY:MY WAY: A MUSICAL TRIBUTE TO FRANK SINATRA
DESCRIPTION:Click Here to View Subscription Packages \n\nConceived and Created by David Grapes and Todd Olson\, Original Book by Todd Olson\, Original production directed by David Grapes\, Arrangements by Vince di Mura\, SummerWind Productions.\nMY WAY is an award-winning\, finger-snapping revue featuring countless songs recorded by crooning legend Frank Sinatra.\nA drop-dead\, too-good-too miss musical revue!\n \nFrom the king of swing to the Rat Pack\, Ol’ Blue Eyes charmed his way into the hearts of millions. Celebrate the pivotal moments of Frank Sinatra’s remarkable five-decade career with a journey through his greatest hits. Four performers sing more than 50 classics such as “I’ve Got the World on a String\,” “Fly Me to the Moon” and “New York\, New York.” Experience the elegance of “The Chairman of the Board” as you’re transported back to the era of supper clubs\, vintage Las Vegas and the perfect martini! Let’s fall in love and fly away with the music of one of the most celebrated recording artists of all time\, just as he would have wanted it: a few stories\, a few drinks\, and plenty of knockout tunes. \nContaining 55 incredible songs from the Great American Songbook\, MY WAY celebrates the mystique and the music of one of music’s most iconic singers! \n  \nBuy Tickets! Subscribe to the ‘Pompano Players’ Series
URL:https://pompanotheater.com/event/my-way-a-musical-tribute-to-frank-sinatra/2027-02-13/1/
LOCATION:Pompano Beach Cultural Center
CATEGORIES:Pompano Players
ATTACH;FMTTYPE=image/jpeg:https://pompanotheater.com/wp-content/uploads/2026/04/778x465_My-Way.jpg
END:VEVENT
BEGIN:VEVENT
DTSTART;TZID=America/New_York:20270213T190000
DTEND;TZID=America/New_York:20270213T210000
DTSTAMP:20260421T131400
CREATED:20260408T112655Z
LAST-MODIFIED:20260408T112655Z
UID:10000153-1802545200-1802552400@pompanotheater.com
SUMMARY:MY WAY: A MUSICAL TRIBUTE TO FRANK SINATRA
DESCRIPTION:Click Here to View Subscription Packages \n\nConceived and Created by David Grapes and Todd Olson\, Original Book by Todd Olson\, Original production directed by David Grapes\, Arrangements by Vince di Mura\, SummerWind Productions.\nMY WAY is an award-winning\, finger-snapping revue featuring countless songs recorded by crooning legend Frank Sinatra.\nA drop-dead\, too-good-too miss musical revue!\n \nFrom the king of swing to the Rat Pack\, Ol’ Blue Eyes charmed his way into the hearts of millions. Celebrate the pivotal moments of Frank Sinatra’s remarkable five-decade career with a journey through his greatest hits. Four performers sing more than 50 classics such as “I’ve Got the World on a String\,” “Fly Me to the Moon” and “New York\, New York.” Experience the elegance of “The Chairman of the Board” as you’re transported back to the era of supper clubs\, vintage Las Vegas and the perfect martini! Let’s fall in love and fly away with the music of one of the most celebrated recording artists of all time\, just as he would have wanted it: a few stories\, a few drinks\, and plenty of knockout tunes. \nContaining 55 incredible songs from the Great American Songbook\, MY WAY celebrates the mystique and the music of one of music’s most iconic singers! \n  \nBuy Tickets! Subscribe to the ‘Pompano Players’ Series
URL:https://pompanotheater.com/event/my-way-a-musical-tribute-to-frank-sinatra/2027-02-13/2/
LOCATION:Pompano Beach Cultural Center
CATEGORIES:Pompano Players
ATTACH;FMTTYPE=image/jpeg:https://pompanotheater.com/wp-content/uploads/2026/04/778x465_My-Way.jpg
END:VEVENT
BEGIN:VEVENT
DTSTART;TZID=America/New_York:20270214T140000
DTEND;TZID=America/New_York:20270214T170000
DTSTAMP:20260421T131400
CREATED:20260408T112655Z
LAST-MODIFIED:20260408T112655Z
UID:10000154-1802613600-1802624400@pompanotheater.com
SUMMARY:MY WAY: A MUSICAL TRIBUTE TO FRANK SINATRA
DESCRIPTION:Click Here to View Subscription Packages \n\nConceived and Created by David Grapes and Todd Olson\, Original Book by Todd Olson\, Original production directed by David Grapes\, Arrangements by Vince di Mura\, SummerWind Productions.\nMY WAY is an award-winning\, finger-snapping revue featuring countless songs recorded by crooning legend Frank Sinatra.\nA drop-dead\, too-good-too miss musical revue!\n \nFrom the king of swing to the Rat Pack\, Ol’ Blue Eyes charmed his way into the hearts of millions. Celebrate the pivotal moments of Frank Sinatra’s remarkable five-decade career with a journey through his greatest hits. Four performers sing more than 50 classics such as “I’ve Got the World on a String\,” “Fly Me to the Moon” and “New York\, New York.” Experience the elegance of “The Chairman of the Board” as you’re transported back to the era of supper clubs\, vintage Las Vegas and the perfect martini! Let’s fall in love and fly away with the music of one of the most celebrated recording artists of all time\, just as he would have wanted it: a few stories\, a few drinks\, and plenty of knockout tunes. \nContaining 55 incredible songs from the Great American Songbook\, MY WAY celebrates the mystique and the music of one of music’s most iconic singers! \n  \nBuy Tickets! Subscribe to the ‘Pompano Players’ Series
URL:https://pompanotheater.com/event/my-way-a-musical-tribute-to-frank-sinatra/2027-02-14/
LOCATION:Pompano Beach Cultural Center
CATEGORIES:Pompano Players
ATTACH;FMTTYPE=image/jpeg:https://pompanotheater.com/wp-content/uploads/2026/04/778x465_My-Way.jpg
END:VEVENT
BEGIN:VEVENT
DTSTART;TZID=America/New_York:20270219T190000
DTEND;TZID=America/New_York:20270219T210000
DTSTAMP:20260421T131400
CREATED:20260408T112655Z
LAST-MODIFIED:20260408T112655Z
UID:10000155-1803063600-1803070800@pompanotheater.com
SUMMARY:MY WAY: A MUSICAL TRIBUTE TO FRANK SINATRA
DESCRIPTION:Click Here to View Subscription Packages \n\nConceived and Created by David Grapes and Todd Olson\, Original Book by Todd Olson\, Original production directed by David Grapes\, Arrangements by Vince di Mura\, SummerWind Productions.\nMY WAY is an award-winning\, finger-snapping revue featuring countless songs recorded by crooning legend Frank Sinatra.\nA drop-dead\, too-good-too miss musical revue!\n \nFrom the king of swing to the Rat Pack\, Ol’ Blue Eyes charmed his way into the hearts of millions. Celebrate the pivotal moments of Frank Sinatra’s remarkable five-decade career with a journey through his greatest hits. Four performers sing more than 50 classics such as “I’ve Got the World on a String\,” “Fly Me to the Moon” and “New York\, New York.” Experience the elegance of “The Chairman of the Board” as you’re transported back to the era of supper clubs\, vintage Las Vegas and the perfect martini! Let’s fall in love and fly away with the music of one of the most celebrated recording artists of all time\, just as he would have wanted it: a few stories\, a few drinks\, and plenty of knockout tunes. \nContaining 55 incredible songs from the Great American Songbook\, MY WAY celebrates the mystique and the music of one of music’s most iconic singers! \n  \nBuy Tickets! Subscribe to the ‘Pompano Players’ Series
URL:https://pompanotheater.com/event/my-way-a-musical-tribute-to-frank-sinatra/2027-02-19/
LOCATION:Pompano Beach Cultural Center
CATEGORIES:Pompano Players
ATTACH;FMTTYPE=image/jpeg:https://pompanotheater.com/wp-content/uploads/2026/04/778x465_My-Way.jpg
END:VEVENT
BEGIN:VEVENT
DTSTART;TZID=America/New_York:20270220T140000
DTEND;TZID=America/New_York:20270220T170000
DTSTAMP:20260421T131400
CREATED:20260408T112655Z
LAST-MODIFIED:20260408T112655Z
UID:10000156-1803132000-1803142800@pompanotheater.com
SUMMARY:MY WAY: A MUSICAL TRIBUTE TO FRANK SINATRA
DESCRIPTION:Click Here to View Subscription Packages \n\nConceived and Created by David Grapes and Todd Olson\, Original Book by Todd Olson\, Original production directed by David Grapes\, Arrangements by Vince di Mura\, SummerWind Productions.\nMY WAY is an award-winning\, finger-snapping revue featuring countless songs recorded by crooning legend Frank Sinatra.\nA drop-dead\, too-good-too miss musical revue!\n \nFrom the king of swing to the Rat Pack\, Ol’ Blue Eyes charmed his way into the hearts of millions. Celebrate the pivotal moments of Frank Sinatra’s remarkable five-decade career with a journey through his greatest hits. Four performers sing more than 50 classics such as “I’ve Got the World on a String\,” “Fly Me to the Moon” and “New York\, New York.” Experience the elegance of “The Chairman of the Board” as you’re transported back to the era of supper clubs\, vintage Las Vegas and the perfect martini! Let’s fall in love and fly away with the music of one of the most celebrated recording artists of all time\, just as he would have wanted it: a few stories\, a few drinks\, and plenty of knockout tunes. \nContaining 55 incredible songs from the Great American Songbook\, MY WAY celebrates the mystique and the music of one of music’s most iconic singers! \n  \nBuy Tickets! Subscribe to the ‘Pompano Players’ Series
URL:https://pompanotheater.com/event/my-way-a-musical-tribute-to-frank-sinatra/2027-02-20/1/
LOCATION:Pompano Beach Cultural Center
CATEGORIES:Pompano Players
ATTACH;FMTTYPE=image/jpeg:https://pompanotheater.com/wp-content/uploads/2026/04/778x465_My-Way.jpg
END:VEVENT
BEGIN:VEVENT
DTSTART;TZID=America/New_York:20270220T190000
DTEND;TZID=America/New_York:20270220T210000
DTSTAMP:20260421T131400
CREATED:20260408T112655Z
LAST-MODIFIED:20260408T112655Z
UID:10000157-1803150000-1803157200@pompanotheater.com
SUMMARY:MY WAY: A MUSICAL TRIBUTE TO FRANK SINATRA
DESCRIPTION:Click Here to View Subscription Packages \n\nConceived and Created by David Grapes and Todd Olson\, Original Book by Todd Olson\, Original production directed by David Grapes\, Arrangements by Vince di Mura\, SummerWind Productions.\nMY WAY is an award-winning\, finger-snapping revue featuring countless songs recorded by crooning legend Frank Sinatra.\nA drop-dead\, too-good-too miss musical revue!\n \nFrom the king of swing to the Rat Pack\, Ol’ Blue Eyes charmed his way into the hearts of millions. Celebrate the pivotal moments of Frank Sinatra’s remarkable five-decade career with a journey through his greatest hits. Four performers sing more than 50 classics such as “I’ve Got the World on a String\,” “Fly Me to the Moon” and “New York\, New York.” Experience the elegance of “The Chairman of the Board” as you’re transported back to the era of supper clubs\, vintage Las Vegas and the perfect martini! Let’s fall in love and fly away with the music of one of the most celebrated recording artists of all time\, just as he would have wanted it: a few stories\, a few drinks\, and plenty of knockout tunes. \nContaining 55 incredible songs from the Great American Songbook\, MY WAY celebrates the mystique and the music of one of music’s most iconic singers! \n  \nBuy Tickets! Subscribe to the ‘Pompano Players’ Series
URL:https://pompanotheater.com/event/my-way-a-musical-tribute-to-frank-sinatra/2027-02-20/2/
LOCATION:Pompano Beach Cultural Center
CATEGORIES:Pompano Players
ATTACH;FMTTYPE=image/jpeg:https://pompanotheater.com/wp-content/uploads/2026/04/778x465_My-Way.jpg
END:VEVENT
BEGIN:VEVENT
DTSTART;TZID=America/New_York:20270221T140000
DTEND;TZID=America/New_York:20270221T170000
DTSTAMP:20260421T131400
CREATED:20260408T112655Z
LAST-MODIFIED:20260408T112655Z
UID:10000158-1803218400-1803229200@pompanotheater.com
SUMMARY:MY WAY: A MUSICAL TRIBUTE TO FRANK SINATRA
DESCRIPTION:Click Here to View Subscription Packages \n\nConceived and Created by David Grapes and Todd Olson\, Original Book by Todd Olson\, Original production directed by David Grapes\, Arrangements by Vince di Mura\, SummerWind Productions.\nMY WAY is an award-winning\, finger-snapping revue featuring countless songs recorded by crooning legend Frank Sinatra.\nA drop-dead\, too-good-too miss musical revue!\n \nFrom the king of swing to the Rat Pack\, Ol’ Blue Eyes charmed his way into the hearts of millions. Celebrate the pivotal moments of Frank Sinatra’s remarkable five-decade career with a journey through his greatest hits. Four performers sing more than 50 classics such as “I’ve Got the World on a String\,” “Fly Me to the Moon” and “New York\, New York.” Experience the elegance of “The Chairman of the Board” as you’re transported back to the era of supper clubs\, vintage Las Vegas and the perfect martini! Let’s fall in love and fly away with the music of one of the most celebrated recording artists of all time\, just as he would have wanted it: a few stories\, a few drinks\, and plenty of knockout tunes. \nContaining 55 incredible songs from the Great American Songbook\, MY WAY celebrates the mystique and the music of one of music’s most iconic singers! \n  \nBuy Tickets! Subscribe to the ‘Pompano Players’ Series
URL:https://pompanotheater.com/event/my-way-a-musical-tribute-to-frank-sinatra/2027-02-21/
LOCATION:Pompano Beach Cultural Center
CATEGORIES:Pompano Players
ATTACH;FMTTYPE=image/jpeg:https://pompanotheater.com/wp-content/uploads/2026/04/778x465_My-Way.jpg
END:VEVENT
END:VCALENDAR