BEGIN:VCALENDAR
VERSION:2.0
PRODID:-//Pompano Beach Live - ECPv6.15.20//NONSGML v1.0//EN
CALSCALE:GREGORIAN
METHOD:PUBLISH
X-WR-CALNAME:Pompano Beach Live
X-ORIGINAL-URL:https://pompanotheater.com
X-WR-CALDESC:Events for Pompano Beach Live
REFRESH-INTERVAL;VALUE=DURATION:PT1H
X-Robots-Tag:noindex
X-PUBLISHED-TTL:PT1H
BEGIN:VTIMEZONE
TZID:America/New_York
BEGIN:DAYLIGHT
TZOFFSETFROM:-0500
TZOFFSETTO:-0400
TZNAME:EDT
DTSTART:20260308T070000
END:DAYLIGHT
BEGIN:STANDARD
TZOFFSETFROM:-0400
TZOFFSETTO:-0500
TZNAME:EST
DTSTART:20261101T060000
END:STANDARD
BEGIN:DAYLIGHT
TZOFFSETFROM:-0500
TZOFFSETTO:-0400
TZNAME:EDT
DTSTART:20270314T070000
END:DAYLIGHT
BEGIN:STANDARD
TZOFFSETFROM:-0400
TZOFFSETTO:-0500
TZNAME:EST
DTSTART:20271107T060000
END:STANDARD
BEGIN:DAYLIGHT
TZOFFSETFROM:-0500
TZOFFSETTO:-0400
TZNAME:EDT
DTSTART:20280312T070000
END:DAYLIGHT
BEGIN:STANDARD
TZOFFSETFROM:-0400
TZOFFSETTO:-0500
TZNAME:EST
DTSTART:20281105T060000
END:STANDARD
END:VTIMEZONE
BEGIN:VEVENT
DTSTART;TZID=America/New_York:20270115T190000
DTEND;TZID=America/New_York:20270116T210000
DTSTAMP:20260421T113624
CREATED:20260408T112349Z
LAST-MODIFIED:20260408T112349Z
UID:10000143-1800039600-1800133200@pompanotheater.com
SUMMARY:NEVER CAN SAY GOODBYE - A 70s BEEHIVE MUSICAL
DESCRIPTION:Click Here to View Subscription Packages\n\nBook by Fred Stewart\nTHE SEQUEL TO BEEHIVE: THE 60s MUSICAL!  \nFollowing the much-loved 60’s musical of the same name\, Beehive: The 70’s Musical features nonstop 70’s hits by the decade’s biggest stars. Full of unforgettable tunes by Linda Rondstadt\, Heart\, Gloria Gaynor\, and more\, travel back in time with this troupe of dynamite entertainers as they celebrate the movement and the music of the 1970’s!  \n“Le Freak”\, “Brick House”\, “We are Family”\, “Heart of Glass”\, “I Will Survive”\, “Hooked on a Feeling”\, “I am Woman” and more!  \n  \nWHAT CRTICS SAY \n“A joyful musical experience!” – The Berkshire Edge  \n  \nBuy Tickets! Subscribe to the ‘Pompano Players’ Series.
URL:https://pompanotheater.com/event/never-can-say-goodbye-a-70s-beehive-musical/2027-01-15/
LOCATION:Pompano Beach Cultural Center
CATEGORIES:Pompano Players
ATTACH;FMTTYPE=image/jpeg:https://pompanotheater.com/wp-content/uploads/2026/04/778x465_Never-Say-Goodbye.jpg
END:VEVENT
BEGIN:VEVENT
DTSTART;TZID=America/New_York:20270116T140000
DTEND;TZID=America/New_York:20270116T170000
DTSTAMP:20260421T113624
CREATED:20260408T112349Z
LAST-MODIFIED:20260408T112349Z
UID:10000144-1800108000-1800118800@pompanotheater.com
SUMMARY:NEVER CAN SAY GOODBYE - A 70s BEEHIVE MUSICAL
DESCRIPTION:Click Here to View Subscription Packages\n\nBook by Fred Stewart\nTHE SEQUEL TO BEEHIVE: THE 60s MUSICAL!  \nFollowing the much-loved 60’s musical of the same name\, Beehive: The 70’s Musical features nonstop 70’s hits by the decade’s biggest stars. Full of unforgettable tunes by Linda Rondstadt\, Heart\, Gloria Gaynor\, and more\, travel back in time with this troupe of dynamite entertainers as they celebrate the movement and the music of the 1970’s!  \n“Le Freak”\, “Brick House”\, “We are Family”\, “Heart of Glass”\, “I Will Survive”\, “Hooked on a Feeling”\, “I am Woman” and more!  \n  \nWHAT CRTICS SAY \n“A joyful musical experience!” – The Berkshire Edge  \n  \nBuy Tickets! Subscribe to the ‘Pompano Players’ Series.
URL:https://pompanotheater.com/event/never-can-say-goodbye-a-70s-beehive-musical/2027-01-16/1/
LOCATION:Pompano Beach Cultural Center
CATEGORIES:Pompano Players
ATTACH;FMTTYPE=image/jpeg:https://pompanotheater.com/wp-content/uploads/2026/04/778x465_Never-Say-Goodbye.jpg
END:VEVENT
BEGIN:VEVENT
DTSTART;TZID=America/New_York:20270116T190000
DTEND;TZID=America/New_York:20270116T210000
DTSTAMP:20260421T113624
CREATED:20260408T112349Z
LAST-MODIFIED:20260408T112349Z
UID:10000145-1800126000-1800133200@pompanotheater.com
SUMMARY:NEVER CAN SAY GOODBYE - A 70s BEEHIVE MUSICAL
DESCRIPTION:Click Here to View Subscription Packages\n\nBook by Fred Stewart\nTHE SEQUEL TO BEEHIVE: THE 60s MUSICAL!  \nFollowing the much-loved 60’s musical of the same name\, Beehive: The 70’s Musical features nonstop 70’s hits by the decade’s biggest stars. Full of unforgettable tunes by Linda Rondstadt\, Heart\, Gloria Gaynor\, and more\, travel back in time with this troupe of dynamite entertainers as they celebrate the movement and the music of the 1970’s!  \n“Le Freak”\, “Brick House”\, “We are Family”\, “Heart of Glass”\, “I Will Survive”\, “Hooked on a Feeling”\, “I am Woman” and more!  \n  \nWHAT CRTICS SAY \n“A joyful musical experience!” – The Berkshire Edge  \n  \nBuy Tickets! Subscribe to the ‘Pompano Players’ Series.
URL:https://pompanotheater.com/event/never-can-say-goodbye-a-70s-beehive-musical/2027-01-16/2/
LOCATION:Pompano Beach Cultural Center
CATEGORIES:Pompano Players
ATTACH;FMTTYPE=image/jpeg:https://pompanotheater.com/wp-content/uploads/2026/04/778x465_Never-Say-Goodbye.jpg
END:VEVENT
BEGIN:VEVENT
DTSTART;TZID=America/New_York:20270117T140000
DTEND;TZID=America/New_York:20270117T170000
DTSTAMP:20260421T113624
CREATED:20260408T112349Z
LAST-MODIFIED:20260408T112349Z
UID:10000146-1800194400-1800205200@pompanotheater.com
SUMMARY:NEVER CAN SAY GOODBYE - A 70s BEEHIVE MUSICAL
DESCRIPTION:Click Here to View Subscription Packages\n\nBook by Fred Stewart\nTHE SEQUEL TO BEEHIVE: THE 60s MUSICAL!  \nFollowing the much-loved 60’s musical of the same name\, Beehive: The 70’s Musical features nonstop 70’s hits by the decade’s biggest stars. Full of unforgettable tunes by Linda Rondstadt\, Heart\, Gloria Gaynor\, and more\, travel back in time with this troupe of dynamite entertainers as they celebrate the movement and the music of the 1970’s!  \n“Le Freak”\, “Brick House”\, “We are Family”\, “Heart of Glass”\, “I Will Survive”\, “Hooked on a Feeling”\, “I am Woman” and more!  \n  \nWHAT CRTICS SAY \n“A joyful musical experience!” – The Berkshire Edge  \n  \nBuy Tickets! Subscribe to the ‘Pompano Players’ Series.
URL:https://pompanotheater.com/event/never-can-say-goodbye-a-70s-beehive-musical/2027-01-17/
LOCATION:Pompano Beach Cultural Center
CATEGORIES:Pompano Players
ATTACH;FMTTYPE=image/jpeg:https://pompanotheater.com/wp-content/uploads/2026/04/778x465_Never-Say-Goodbye.jpg
END:VEVENT
BEGIN:VEVENT
DTSTART;TZID=America/New_York:20270122T190000
DTEND;TZID=America/New_York:20270122T210000
DTSTAMP:20260421T113624
CREATED:20260408T112349Z
LAST-MODIFIED:20260408T112349Z
UID:10000147-1800644400-1800651600@pompanotheater.com
SUMMARY:NEVER CAN SAY GOODBYE - A 70s BEEHIVE MUSICAL
DESCRIPTION:Click Here to View Subscription Packages\n\nBook by Fred Stewart\nTHE SEQUEL TO BEEHIVE: THE 60s MUSICAL!  \nFollowing the much-loved 60’s musical of the same name\, Beehive: The 70’s Musical features nonstop 70’s hits by the decade’s biggest stars. Full of unforgettable tunes by Linda Rondstadt\, Heart\, Gloria Gaynor\, and more\, travel back in time with this troupe of dynamite entertainers as they celebrate the movement and the music of the 1970’s!  \n“Le Freak”\, “Brick House”\, “We are Family”\, “Heart of Glass”\, “I Will Survive”\, “Hooked on a Feeling”\, “I am Woman” and more!  \n  \nWHAT CRTICS SAY \n“A joyful musical experience!” – The Berkshire Edge  \n  \nBuy Tickets! Subscribe to the ‘Pompano Players’ Series.
URL:https://pompanotheater.com/event/never-can-say-goodbye-a-70s-beehive-musical/2027-01-22/
LOCATION:Pompano Beach Cultural Center
CATEGORIES:Pompano Players
ATTACH;FMTTYPE=image/jpeg:https://pompanotheater.com/wp-content/uploads/2026/04/778x465_Never-Say-Goodbye.jpg
END:VEVENT
BEGIN:VEVENT
DTSTART;TZID=America/New_York:20270123T140000
DTEND;TZID=America/New_York:20270123T170000
DTSTAMP:20260421T113624
CREATED:20260408T112349Z
LAST-MODIFIED:20260408T112349Z
UID:10000148-1800712800-1800723600@pompanotheater.com
SUMMARY:NEVER CAN SAY GOODBYE - A 70s BEEHIVE MUSICAL
DESCRIPTION:Click Here to View Subscription Packages\n\nBook by Fred Stewart\nTHE SEQUEL TO BEEHIVE: THE 60s MUSICAL!  \nFollowing the much-loved 60’s musical of the same name\, Beehive: The 70’s Musical features nonstop 70’s hits by the decade’s biggest stars. Full of unforgettable tunes by Linda Rondstadt\, Heart\, Gloria Gaynor\, and more\, travel back in time with this troupe of dynamite entertainers as they celebrate the movement and the music of the 1970’s!  \n“Le Freak”\, “Brick House”\, “We are Family”\, “Heart of Glass”\, “I Will Survive”\, “Hooked on a Feeling”\, “I am Woman” and more!  \n  \nWHAT CRTICS SAY \n“A joyful musical experience!” – The Berkshire Edge  \n  \nBuy Tickets! Subscribe to the ‘Pompano Players’ Series.
URL:https://pompanotheater.com/event/never-can-say-goodbye-a-70s-beehive-musical/2027-01-23/1/
LOCATION:Pompano Beach Cultural Center
CATEGORIES:Pompano Players
ATTACH;FMTTYPE=image/jpeg:https://pompanotheater.com/wp-content/uploads/2026/04/778x465_Never-Say-Goodbye.jpg
END:VEVENT
BEGIN:VEVENT
DTSTART;TZID=America/New_York:20270123T190000
DTEND;TZID=America/New_York:20270123T210000
DTSTAMP:20260421T113624
CREATED:20260408T112349Z
LAST-MODIFIED:20260408T112349Z
UID:10000149-1800730800-1800738000@pompanotheater.com
SUMMARY:NEVER CAN SAY GOODBYE - A 70s BEEHIVE MUSICAL
DESCRIPTION:Click Here to View Subscription Packages\n\nBook by Fred Stewart\nTHE SEQUEL TO BEEHIVE: THE 60s MUSICAL!  \nFollowing the much-loved 60’s musical of the same name\, Beehive: The 70’s Musical features nonstop 70’s hits by the decade’s biggest stars. Full of unforgettable tunes by Linda Rondstadt\, Heart\, Gloria Gaynor\, and more\, travel back in time with this troupe of dynamite entertainers as they celebrate the movement and the music of the 1970’s!  \n“Le Freak”\, “Brick House”\, “We are Family”\, “Heart of Glass”\, “I Will Survive”\, “Hooked on a Feeling”\, “I am Woman” and more!  \n  \nWHAT CRTICS SAY \n“A joyful musical experience!” – The Berkshire Edge  \n  \nBuy Tickets! Subscribe to the ‘Pompano Players’ Series.
URL:https://pompanotheater.com/event/never-can-say-goodbye-a-70s-beehive-musical/2027-01-23/2/
LOCATION:Pompano Beach Cultural Center
CATEGORIES:Pompano Players
ATTACH;FMTTYPE=image/jpeg:https://pompanotheater.com/wp-content/uploads/2026/04/778x465_Never-Say-Goodbye.jpg
END:VEVENT
BEGIN:VEVENT
DTSTART;TZID=America/New_York:20270124T140000
DTEND;TZID=America/New_York:20270124T170000
DTSTAMP:20260421T113624
CREATED:20260408T112349Z
LAST-MODIFIED:20260408T112349Z
UID:10000150-1800799200-1800810000@pompanotheater.com
SUMMARY:NEVER CAN SAY GOODBYE - A 70s BEEHIVE MUSICAL
DESCRIPTION:Click Here to View Subscription Packages\n\nBook by Fred Stewart\nTHE SEQUEL TO BEEHIVE: THE 60s MUSICAL!  \nFollowing the much-loved 60’s musical of the same name\, Beehive: The 70’s Musical features nonstop 70’s hits by the decade’s biggest stars. Full of unforgettable tunes by Linda Rondstadt\, Heart\, Gloria Gaynor\, and more\, travel back in time with this troupe of dynamite entertainers as they celebrate the movement and the music of the 1970’s!  \n“Le Freak”\, “Brick House”\, “We are Family”\, “Heart of Glass”\, “I Will Survive”\, “Hooked on a Feeling”\, “I am Woman” and more!  \n  \nWHAT CRTICS SAY \n“A joyful musical experience!” – The Berkshire Edge  \n  \nBuy Tickets! Subscribe to the ‘Pompano Players’ Series.
URL:https://pompanotheater.com/event/never-can-say-goodbye-a-70s-beehive-musical/2027-01-24/
LOCATION:Pompano Beach Cultural Center
CATEGORIES:Pompano Players
ATTACH;FMTTYPE=image/jpeg:https://pompanotheater.com/wp-content/uploads/2026/04/778x465_Never-Say-Goodbye.jpg
END:VEVENT
END:VCALENDAR