BEGIN:VCALENDAR
VERSION:2.0
PRODID:-//Pompano Beach Live - ECPv6.15.20//NONSGML v1.0//EN
CALSCALE:GREGORIAN
METHOD:PUBLISH
X-ORIGINAL-URL:https://pompanotheater.com
X-WR-CALDESC:Events for Pompano Beach Live
REFRESH-INTERVAL;VALUE=DURATION:PT1H
X-Robots-Tag:noindex
X-PUBLISHED-TTL:PT1H
BEGIN:VTIMEZONE
TZID:America/New_York
BEGIN:DAYLIGHT
TZOFFSETFROM:-0500
TZOFFSETTO:-0400
TZNAME:EDT
DTSTART:20260308T070000
END:DAYLIGHT
BEGIN:STANDARD
TZOFFSETFROM:-0400
TZOFFSETTO:-0500
TZNAME:EST
DTSTART:20261101T060000
END:STANDARD
BEGIN:DAYLIGHT
TZOFFSETFROM:-0500
TZOFFSETTO:-0400
TZNAME:EDT
DTSTART:20270314T070000
END:DAYLIGHT
BEGIN:STANDARD
TZOFFSETFROM:-0400
TZOFFSETTO:-0500
TZNAME:EST
DTSTART:20271107T060000
END:STANDARD
BEGIN:DAYLIGHT
TZOFFSETFROM:-0500
TZOFFSETTO:-0400
TZNAME:EDT
DTSTART:20280312T070000
END:DAYLIGHT
BEGIN:STANDARD
TZOFFSETFROM:-0400
TZOFFSETTO:-0500
TZNAME:EST
DTSTART:20281105T060000
END:STANDARD
END:VTIMEZONE
BEGIN:VEVENT
DTSTART;TZID=America/New_York:20270402T190000
DTEND;TZID=America/New_York:20270402T210000
DTSTAMP:20260422T031921
CREATED:20260407T130839Z
LAST-MODIFIED:20260407T130839Z
UID:10000167-1806692400-1806699600@pompanotheater.com
SUMMARY:SISTERS OF SWING: The Story of the Andrews Sisters
DESCRIPTION:Click Here to View Subscription Packages \n\nWritten by Beth Gilleland and Bob Beverage\, Musical Arrangements by Raymond Berg\nThey sold over 90 million records\, nine of them gold. They had more Top Ten hits than the Beatles or Elvis. And they are still one of the best-selling female vocal groups of all time. Audiences understand why when they see Sisters of Swing: The Story of the Andrews Sisters. This musical follows sisters LaVerne\, Maxene and Patty Andrews from their early days on the road through their rise as recording stars to entertaining American GI’s overseas to dissembling over differences. This show goes beyond the ordinary to offer a unique perspective into these women as human beings\, showing how the events of their lives shaped who they became to the rest of the world. \nOver twenty hit songs like “Bei Mir Bist Du Schon”\, “Don’t Sit Under the Apple Tree”\, “Boogie Woogie Bugle Boy”\, and more!  \n  \nWHAT CRTICS SAY \n“A personal\, witty and poignant portrait.” – Miami Herald \n“…a striking reminder of the strength and fervor of truly live music.” – Sun Sentinel  \n  \nBuy Tickets! Subscribe to the ‘Pompano Players’ Series.
URL:https://pompanotheater.com/event/sisters-of-swing-the-story-of-the-andrews-sisters/2027-04-02/
LOCATION:Pompano Beach Cultural Center
CATEGORIES:Pompano Players
ATTACH;FMTTYPE=image/jpeg:https://pompanotheater.com/wp-content/uploads/2026/04/16.jpg
END:VEVENT
BEGIN:VEVENT
DTSTART;TZID=America/New_York:20270403T140000
DTEND;TZID=America/New_York:20270403T170000
DTSTAMP:20260422T031921
CREATED:20260407T130839Z
LAST-MODIFIED:20260407T130839Z
UID:10000168-1806760800-1806771600@pompanotheater.com
SUMMARY:SISTERS OF SWING: The Story of the Andrews Sisters
DESCRIPTION:Click Here to View Subscription Packages \n\nWritten by Beth Gilleland and Bob Beverage\, Musical Arrangements by Raymond Berg\nThey sold over 90 million records\, nine of them gold. They had more Top Ten hits than the Beatles or Elvis. And they are still one of the best-selling female vocal groups of all time. Audiences understand why when they see Sisters of Swing: The Story of the Andrews Sisters. This musical follows sisters LaVerne\, Maxene and Patty Andrews from their early days on the road through their rise as recording stars to entertaining American GI’s overseas to dissembling over differences. This show goes beyond the ordinary to offer a unique perspective into these women as human beings\, showing how the events of their lives shaped who they became to the rest of the world. \nOver twenty hit songs like “Bei Mir Bist Du Schon”\, “Don’t Sit Under the Apple Tree”\, “Boogie Woogie Bugle Boy”\, and more!  \n  \nWHAT CRTICS SAY \n“A personal\, witty and poignant portrait.” – Miami Herald \n“…a striking reminder of the strength and fervor of truly live music.” – Sun Sentinel  \n  \nBuy Tickets! Subscribe to the ‘Pompano Players’ Series.
URL:https://pompanotheater.com/event/sisters-of-swing-the-story-of-the-andrews-sisters/2027-04-03/1/
LOCATION:Pompano Beach Cultural Center
CATEGORIES:Pompano Players
ATTACH;FMTTYPE=image/jpeg:https://pompanotheater.com/wp-content/uploads/2026/04/16.jpg
END:VEVENT
BEGIN:VEVENT
DTSTART;TZID=America/New_York:20270403T190000
DTEND;TZID=America/New_York:20270403T210000
DTSTAMP:20260422T031921
CREATED:20260407T130839Z
LAST-MODIFIED:20260407T130839Z
UID:10000169-1806778800-1806786000@pompanotheater.com
SUMMARY:SISTERS OF SWING: The Story of the Andrews Sisters
DESCRIPTION:Click Here to View Subscription Packages \n\nWritten by Beth Gilleland and Bob Beverage\, Musical Arrangements by Raymond Berg\nThey sold over 90 million records\, nine of them gold. They had more Top Ten hits than the Beatles or Elvis. And they are still one of the best-selling female vocal groups of all time. Audiences understand why when they see Sisters of Swing: The Story of the Andrews Sisters. This musical follows sisters LaVerne\, Maxene and Patty Andrews from their early days on the road through their rise as recording stars to entertaining American GI’s overseas to dissembling over differences. This show goes beyond the ordinary to offer a unique perspective into these women as human beings\, showing how the events of their lives shaped who they became to the rest of the world. \nOver twenty hit songs like “Bei Mir Bist Du Schon”\, “Don’t Sit Under the Apple Tree”\, “Boogie Woogie Bugle Boy”\, and more!  \n  \nWHAT CRTICS SAY \n“A personal\, witty and poignant portrait.” – Miami Herald \n“…a striking reminder of the strength and fervor of truly live music.” – Sun Sentinel  \n  \nBuy Tickets! Subscribe to the ‘Pompano Players’ Series.
URL:https://pompanotheater.com/event/sisters-of-swing-the-story-of-the-andrews-sisters/2027-04-03/2/
LOCATION:Pompano Beach Cultural Center
CATEGORIES:Pompano Players
ATTACH;FMTTYPE=image/jpeg:https://pompanotheater.com/wp-content/uploads/2026/04/16.jpg
END:VEVENT
BEGIN:VEVENT
DTSTART;TZID=America/New_York:20270404T140000
DTEND;TZID=America/New_York:20270404T170000
DTSTAMP:20260422T031921
CREATED:20260407T130839Z
LAST-MODIFIED:20260407T130839Z
UID:10000170-1806847200-1806858000@pompanotheater.com
SUMMARY:SISTERS OF SWING: The Story of the Andrews Sisters
DESCRIPTION:Click Here to View Subscription Packages \n\nWritten by Beth Gilleland and Bob Beverage\, Musical Arrangements by Raymond Berg\nThey sold over 90 million records\, nine of them gold. They had more Top Ten hits than the Beatles or Elvis. And they are still one of the best-selling female vocal groups of all time. Audiences understand why when they see Sisters of Swing: The Story of the Andrews Sisters. This musical follows sisters LaVerne\, Maxene and Patty Andrews from their early days on the road through their rise as recording stars to entertaining American GI’s overseas to dissembling over differences. This show goes beyond the ordinary to offer a unique perspective into these women as human beings\, showing how the events of their lives shaped who they became to the rest of the world. \nOver twenty hit songs like “Bei Mir Bist Du Schon”\, “Don’t Sit Under the Apple Tree”\, “Boogie Woogie Bugle Boy”\, and more!  \n  \nWHAT CRTICS SAY \n“A personal\, witty and poignant portrait.” – Miami Herald \n“…a striking reminder of the strength and fervor of truly live music.” – Sun Sentinel  \n  \nBuy Tickets! Subscribe to the ‘Pompano Players’ Series.
URL:https://pompanotheater.com/event/sisters-of-swing-the-story-of-the-andrews-sisters/2027-04-04/
LOCATION:Pompano Beach Cultural Center
CATEGORIES:Pompano Players
ATTACH;FMTTYPE=image/jpeg:https://pompanotheater.com/wp-content/uploads/2026/04/16.jpg
END:VEVENT
BEGIN:VEVENT
DTSTART;TZID=America/New_York:20270409T190000
DTEND;TZID=America/New_York:20270409T210000
DTSTAMP:20260422T031921
CREATED:20260407T130839Z
LAST-MODIFIED:20260407T130839Z
UID:10000171-1807297200-1807304400@pompanotheater.com
SUMMARY:SISTERS OF SWING: The Story of the Andrews Sisters
DESCRIPTION:Click Here to View Subscription Packages \n\nWritten by Beth Gilleland and Bob Beverage\, Musical Arrangements by Raymond Berg\nThey sold over 90 million records\, nine of them gold. They had more Top Ten hits than the Beatles or Elvis. And they are still one of the best-selling female vocal groups of all time. Audiences understand why when they see Sisters of Swing: The Story of the Andrews Sisters. This musical follows sisters LaVerne\, Maxene and Patty Andrews from their early days on the road through their rise as recording stars to entertaining American GI’s overseas to dissembling over differences. This show goes beyond the ordinary to offer a unique perspective into these women as human beings\, showing how the events of their lives shaped who they became to the rest of the world. \nOver twenty hit songs like “Bei Mir Bist Du Schon”\, “Don’t Sit Under the Apple Tree”\, “Boogie Woogie Bugle Boy”\, and more!  \n  \nWHAT CRTICS SAY \n“A personal\, witty and poignant portrait.” – Miami Herald \n“…a striking reminder of the strength and fervor of truly live music.” – Sun Sentinel  \n  \nBuy Tickets! Subscribe to the ‘Pompano Players’ Series.
URL:https://pompanotheater.com/event/sisters-of-swing-the-story-of-the-andrews-sisters/2027-04-09/
LOCATION:Pompano Beach Cultural Center
CATEGORIES:Pompano Players
ATTACH;FMTTYPE=image/jpeg:https://pompanotheater.com/wp-content/uploads/2026/04/16.jpg
END:VEVENT
BEGIN:VEVENT
DTSTART;TZID=America/New_York:20270410T140000
DTEND;TZID=America/New_York:20270410T170000
DTSTAMP:20260422T031921
CREATED:20260407T130839Z
LAST-MODIFIED:20260407T130839Z
UID:10000172-1807365600-1807376400@pompanotheater.com
SUMMARY:SISTERS OF SWING: The Story of the Andrews Sisters
DESCRIPTION:Click Here to View Subscription Packages \n\nWritten by Beth Gilleland and Bob Beverage\, Musical Arrangements by Raymond Berg\nThey sold over 90 million records\, nine of them gold. They had more Top Ten hits than the Beatles or Elvis. And they are still one of the best-selling female vocal groups of all time. Audiences understand why when they see Sisters of Swing: The Story of the Andrews Sisters. This musical follows sisters LaVerne\, Maxene and Patty Andrews from their early days on the road through their rise as recording stars to entertaining American GI’s overseas to dissembling over differences. This show goes beyond the ordinary to offer a unique perspective into these women as human beings\, showing how the events of their lives shaped who they became to the rest of the world. \nOver twenty hit songs like “Bei Mir Bist Du Schon”\, “Don’t Sit Under the Apple Tree”\, “Boogie Woogie Bugle Boy”\, and more!  \n  \nWHAT CRTICS SAY \n“A personal\, witty and poignant portrait.” – Miami Herald \n“…a striking reminder of the strength and fervor of truly live music.” – Sun Sentinel  \n  \nBuy Tickets! Subscribe to the ‘Pompano Players’ Series.
URL:https://pompanotheater.com/event/sisters-of-swing-the-story-of-the-andrews-sisters/2027-04-10/1/
LOCATION:Pompano Beach Cultural Center
CATEGORIES:Pompano Players
ATTACH;FMTTYPE=image/jpeg:https://pompanotheater.com/wp-content/uploads/2026/04/16.jpg
END:VEVENT
BEGIN:VEVENT
DTSTART;TZID=America/New_York:20270410T190000
DTEND;TZID=America/New_York:20270410T210000
DTSTAMP:20260422T031921
CREATED:20260407T130839Z
LAST-MODIFIED:20260407T130839Z
UID:10000173-1807383600-1807390800@pompanotheater.com
SUMMARY:SISTERS OF SWING: The Story of the Andrews Sisters
DESCRIPTION:Click Here to View Subscription Packages \n\nWritten by Beth Gilleland and Bob Beverage\, Musical Arrangements by Raymond Berg\nThey sold over 90 million records\, nine of them gold. They had more Top Ten hits than the Beatles or Elvis. And they are still one of the best-selling female vocal groups of all time. Audiences understand why when they see Sisters of Swing: The Story of the Andrews Sisters. This musical follows sisters LaVerne\, Maxene and Patty Andrews from their early days on the road through their rise as recording stars to entertaining American GI’s overseas to dissembling over differences. This show goes beyond the ordinary to offer a unique perspective into these women as human beings\, showing how the events of their lives shaped who they became to the rest of the world. \nOver twenty hit songs like “Bei Mir Bist Du Schon”\, “Don’t Sit Under the Apple Tree”\, “Boogie Woogie Bugle Boy”\, and more!  \n  \nWHAT CRTICS SAY \n“A personal\, witty and poignant portrait.” – Miami Herald \n“…a striking reminder of the strength and fervor of truly live music.” – Sun Sentinel  \n  \nBuy Tickets! Subscribe to the ‘Pompano Players’ Series.
URL:https://pompanotheater.com/event/sisters-of-swing-the-story-of-the-andrews-sisters/2027-04-10/2/
LOCATION:Pompano Beach Cultural Center
CATEGORIES:Pompano Players
ATTACH;FMTTYPE=image/jpeg:https://pompanotheater.com/wp-content/uploads/2026/04/16.jpg
END:VEVENT
BEGIN:VEVENT
DTSTART;TZID=America/New_York:20270411T140000
DTEND;TZID=America/New_York:20270411T170000
DTSTAMP:20260422T031921
CREATED:20260407T130839Z
LAST-MODIFIED:20260407T130839Z
UID:10000174-1807452000-1807462800@pompanotheater.com
SUMMARY:SISTERS OF SWING: The Story of the Andrews Sisters
DESCRIPTION:Click Here to View Subscription Packages \n\nWritten by Beth Gilleland and Bob Beverage\, Musical Arrangements by Raymond Berg\nThey sold over 90 million records\, nine of them gold. They had more Top Ten hits than the Beatles or Elvis. And they are still one of the best-selling female vocal groups of all time. Audiences understand why when they see Sisters of Swing: The Story of the Andrews Sisters. This musical follows sisters LaVerne\, Maxene and Patty Andrews from their early days on the road through their rise as recording stars to entertaining American GI’s overseas to dissembling over differences. This show goes beyond the ordinary to offer a unique perspective into these women as human beings\, showing how the events of their lives shaped who they became to the rest of the world. \nOver twenty hit songs like “Bei Mir Bist Du Schon”\, “Don’t Sit Under the Apple Tree”\, “Boogie Woogie Bugle Boy”\, and more!  \n  \nWHAT CRTICS SAY \n“A personal\, witty and poignant portrait.” – Miami Herald \n“…a striking reminder of the strength and fervor of truly live music.” – Sun Sentinel  \n  \nBuy Tickets! Subscribe to the ‘Pompano Players’ Series.
URL:https://pompanotheater.com/event/sisters-of-swing-the-story-of-the-andrews-sisters/2027-04-11/
LOCATION:Pompano Beach Cultural Center
CATEGORIES:Pompano Players
ATTACH;FMTTYPE=image/jpeg:https://pompanotheater.com/wp-content/uploads/2026/04/16.jpg
END:VEVENT
BEGIN:VEVENT
DTSTART;TZID=America/New_York:20270424T150000
DTEND;TZID=America/New_York:20270424T170000
DTSTAMP:20260422T031921
CREATED:20260407T084953Z
LAST-MODIFIED:20260407T084953Z
UID:10000191-1808578800-1808586000@pompanotheater.com
SUMMARY:The Edwards Twins
DESCRIPTION:$65 Platinum | $55 Premium | Standard $45\n\nRemember all the wonderful Variety shows we all grew up on in the 70’s & 80’s? Now is your chance to see them live and re-created by Las Vegas’ number one impersonators of all time.  \nAll your favorite legendary Superstars come alive in An Evening with The Stars. Sonny & Cher\, Billy Joel\, Elton John\, Neil Diamond\, Lionel Richie\, Stevie Wonder\, Ray Charles\, Lady Gaga\, Celine Dion\, Rod Stewart\, Bette Midler\, Barbra Streisand\, Andrea Bocelli\, Tom Jones\, and many many more hosted by THE EDWARDS TWINS with all live vocals! In a world of tribute shows and impersonators there is NO other show like The Edwards Twins! \n “It’s one of the most extra­ordinary shows we have ever seen.” – NBC\, The Today Show \n“The most stunning range of impersonations you will ever see” – USA TODAY  \n“Dynamite entertainers!” – People  \n“Must-see show!” – Entertainment Tonight \nAbout The Edwards Twins: Eddie was born in 1965 and raised in Burbank California with his identical twin brother Anthony. Both boys were fascinated with celebrities at a very early age. Living near the famous NBC TV studios in Burbank\, they would sneak in and watch various TV shows being taped. At home\, the brothers would then play together mimicking the stars and memorizing the skits from “The Sonny and Cher Show” “The Carol Burnett Show” and “Laugh In”.\nBUY TICKETS
URL:https://pompanotheater.com/event/the-edwards-twins-2/
LOCATION:Pompano Beach Cultural Center
CATEGORIES:Pompano Beach Live
ATTACH;FMTTYPE=image/png:https://pompanotheater.com/wp-content/uploads/2025/05/5.png
END:VEVENT
BEGIN:VEVENT
DTSTART;TZID=America/New_York:20270430T193000
DTEND;TZID=America/New_York:20270430T210000
DTSTAMP:20260422T031921
CREATED:20260407T105528Z
LAST-MODIFIED:20260407T105528Z
UID:10000196-1809113400-1809118800@pompanotheater.com
SUMMARY:Honky Tonk Man- A Tribute to Dwight Yoakam
DESCRIPTION:$65 Platinum | $55 Premium | Standard $45\n\n\n\n\n\n\n\n\n\n\n\n\nHigh-energy tribute show delivering authentic performances of Dwight Yoakam’s greatest hits! \n\n\n\n\nHonky Tonk Man is a premier tribute to the legendary Dwight Yoakam\, delivering an authentic\, high-energy celebration of one of country music’s most iconic and influential artists. Starring the incredibly talented Otto D\, this show faithfully recreates the sound\, style\, and spirit that made Yoakam a trailblazer in modern honky tonk and Bakersfield country. Backed by a top-notch band and fueled by a passion for the music\, Honky Tonk Man transports audiences straight into the heart of a classic country concert experience that keeps audiences singing along from the first note to the final encore. Lifelong Dwight Yoakam fans and newcomers alike\, Honky Tonk Man is more than a tribute — it’s a true honky tonk experience that celebrates the music\, legacy\, and enduring impact of a country music legend. \nThe show features spot-on renditions of Yoakam’s biggest chart-topping hits\, including “Guitars\, Cadillacs”\, “Fast As You”\, “Honky Tonk Man”\, “A Thousand Miles from Nowhere”\, “Streets of Bakersfield”\, “Little Sister”\, “Ain’t That Lonely Yet”\, and more! \n \n\nBUY TICKETS
URL:https://pompanotheater.com/event/honky-tonk-man-a-tribute-to-dwight-yoakam/
LOCATION:Pompano Beach Cultural Center
CATEGORIES:Pompano Beach Live
ATTACH;FMTTYPE=image/jpeg:https://pompanotheater.com/wp-content/uploads/2026/04/Pompano-beach-Live-20262027-Season-11.jpg
END:VEVENT
END:VCALENDAR