BEGIN:VCALENDAR
VERSION:2.0
PRODID:-//Pompano Beach Live - ECPv6.15.20//NONSGML v1.0//EN
CALSCALE:GREGORIAN
METHOD:PUBLISH
X-ORIGINAL-URL:https://pompanotheater.com
X-WR-CALDESC:Events for Pompano Beach Live
REFRESH-INTERVAL;VALUE=DURATION:PT1H
X-Robots-Tag:noindex
X-PUBLISHED-TTL:PT1H
BEGIN:VTIMEZONE
TZID:America/New_York
BEGIN:DAYLIGHT
TZOFFSETFROM:-0500
TZOFFSETTO:-0400
TZNAME:EDT
DTSTART:20250309T070000
END:DAYLIGHT
BEGIN:STANDARD
TZOFFSETFROM:-0400
TZOFFSETTO:-0500
TZNAME:EST
DTSTART:20251102T060000
END:STANDARD
BEGIN:DAYLIGHT
TZOFFSETFROM:-0500
TZOFFSETTO:-0400
TZNAME:EDT
DTSTART:20260308T070000
END:DAYLIGHT
BEGIN:STANDARD
TZOFFSETFROM:-0400
TZOFFSETTO:-0500
TZNAME:EST
DTSTART:20261101T060000
END:STANDARD
BEGIN:DAYLIGHT
TZOFFSETFROM:-0500
TZOFFSETTO:-0400
TZNAME:EDT
DTSTART:20270314T070000
END:DAYLIGHT
BEGIN:STANDARD
TZOFFSETFROM:-0400
TZOFFSETTO:-0500
TZNAME:EST
DTSTART:20271107T060000
END:STANDARD
END:VTIMEZONE
BEGIN:VEVENT
DTSTART;TZID=America/New_York:20261106T190000
DTEND;TZID=America/New_York:20261106T210000
DTSTAMP:20260421T181919
CREATED:20260407T131348Z
LAST-MODIFIED:20260407T131348Z
UID:10000135-1793991600-1793998800@pompanotheater.com
SUMMARY:GUTENBERG! THE MUSICAL!
DESCRIPTION:Click Here to View Subscription Packages \n\nCreated by By Scott Brown and Anthony King\nIn this two-man musical spoof\, two aspiring playwrights pitch a hilariously misguided musical about printing press inventor Johann Gutenberg.\nGutenberg! The Musical! is a clever\, offbeat\, frequently absurd comedy that affectionately spoofs the world of musical theater. This love letter to new works is told through the lens of two aspiring writers earnestly pitching their wildly inaccurate musical about the invention of the printing press\, blending infectious enthusiasm\, witty songs\, and irreverent historical twists.\n\nWHAT CRITICS SAY\n “Brilliantly realized and side-splitting!” –New York Magazine \n“A smashing success!” – The New York Times \n“There are lots of genuine laughs in Gutenberg!” – New York Post \nHistory:\nGutenberg! The Musical! premiered on Broadway at the James Earl Jones Theatre on October 12\, 2023. Directed by Alex Timbers\, the Broadway production starred Josh Gad and Andrew Rannells. Scott Brown and Anthony King originally developed Gutenberg! at the Upright Citizens Brigade Theatre in New York City\, where it ran for over a year\, starring the authors and Ken Keech with direction by Charlie Todd and musical direction by Barry Wyner. The show was part of the 2005 and 2006 New York Musical Theatre Festival and ran at the Jermyn Street Theatre in London in January 2006. Gutenberg! The Musical! opened off-Broadway at 59E59 on December 3\, 2006\, transferring to The Actors’ Playhouse on January 16\, 2007. Directed by Timbers\, the off-Broadway production featured Christopher Fitzgerald\, Jeremy Shamos and Ryan Karels\, with music direction by T.O. Sterrett. \n  \nGet Tickets! Subscribe to the ‘Pompano Players’ Series
URL:https://pompanotheater.com/event/gutenberg-the-musical/2026-11-06/
LOCATION:Pompano Beach Cultural Center
CATEGORIES:Pompano Players
ATTACH;FMTTYPE=image/jpeg:https://pompanotheater.com/wp-content/uploads/2026/04/14.jpg
END:VEVENT
BEGIN:VEVENT
DTSTART;TZID=America/New_York:20261107T140000
DTEND;TZID=America/New_York:20261107T170000
DTSTAMP:20260421T181919
CREATED:20260407T131348Z
LAST-MODIFIED:20260407T131348Z
UID:10000136-1794060000-1794070800@pompanotheater.com
SUMMARY:GUTENBERG! THE MUSICAL!
DESCRIPTION:Click Here to View Subscription Packages \n\nCreated by By Scott Brown and Anthony King\nIn this two-man musical spoof\, two aspiring playwrights pitch a hilariously misguided musical about printing press inventor Johann Gutenberg.\nGutenberg! The Musical! is a clever\, offbeat\, frequently absurd comedy that affectionately spoofs the world of musical theater. This love letter to new works is told through the lens of two aspiring writers earnestly pitching their wildly inaccurate musical about the invention of the printing press\, blending infectious enthusiasm\, witty songs\, and irreverent historical twists.\n\nWHAT CRITICS SAY\n “Brilliantly realized and side-splitting!” –New York Magazine \n“A smashing success!” – The New York Times \n“There are lots of genuine laughs in Gutenberg!” – New York Post \nHistory:\nGutenberg! The Musical! premiered on Broadway at the James Earl Jones Theatre on October 12\, 2023. Directed by Alex Timbers\, the Broadway production starred Josh Gad and Andrew Rannells. Scott Brown and Anthony King originally developed Gutenberg! at the Upright Citizens Brigade Theatre in New York City\, where it ran for over a year\, starring the authors and Ken Keech with direction by Charlie Todd and musical direction by Barry Wyner. The show was part of the 2005 and 2006 New York Musical Theatre Festival and ran at the Jermyn Street Theatre in London in January 2006. Gutenberg! The Musical! opened off-Broadway at 59E59 on December 3\, 2006\, transferring to The Actors’ Playhouse on January 16\, 2007. Directed by Timbers\, the off-Broadway production featured Christopher Fitzgerald\, Jeremy Shamos and Ryan Karels\, with music direction by T.O. Sterrett. \n  \nGet Tickets! Subscribe to the ‘Pompano Players’ Series
URL:https://pompanotheater.com/event/gutenberg-the-musical/2026-11-07/1/
LOCATION:Pompano Beach Cultural Center
CATEGORIES:Pompano Players
ATTACH;FMTTYPE=image/jpeg:https://pompanotheater.com/wp-content/uploads/2026/04/14.jpg
END:VEVENT
BEGIN:VEVENT
DTSTART;TZID=America/New_York:20261107T190000
DTEND;TZID=America/New_York:20261107T210000
DTSTAMP:20260421T181919
CREATED:20260407T131348Z
LAST-MODIFIED:20260407T131348Z
UID:10000137-1794078000-1794085200@pompanotheater.com
SUMMARY:GUTENBERG! THE MUSICAL!
DESCRIPTION:Click Here to View Subscription Packages \n\nCreated by By Scott Brown and Anthony King\nIn this two-man musical spoof\, two aspiring playwrights pitch a hilariously misguided musical about printing press inventor Johann Gutenberg.\nGutenberg! The Musical! is a clever\, offbeat\, frequently absurd comedy that affectionately spoofs the world of musical theater. This love letter to new works is told through the lens of two aspiring writers earnestly pitching their wildly inaccurate musical about the invention of the printing press\, blending infectious enthusiasm\, witty songs\, and irreverent historical twists.\n\nWHAT CRITICS SAY\n “Brilliantly realized and side-splitting!” –New York Magazine \n“A smashing success!” – The New York Times \n“There are lots of genuine laughs in Gutenberg!” – New York Post \nHistory:\nGutenberg! The Musical! premiered on Broadway at the James Earl Jones Theatre on October 12\, 2023. Directed by Alex Timbers\, the Broadway production starred Josh Gad and Andrew Rannells. Scott Brown and Anthony King originally developed Gutenberg! at the Upright Citizens Brigade Theatre in New York City\, where it ran for over a year\, starring the authors and Ken Keech with direction by Charlie Todd and musical direction by Barry Wyner. The show was part of the 2005 and 2006 New York Musical Theatre Festival and ran at the Jermyn Street Theatre in London in January 2006. Gutenberg! The Musical! opened off-Broadway at 59E59 on December 3\, 2006\, transferring to The Actors’ Playhouse on January 16\, 2007. Directed by Timbers\, the off-Broadway production featured Christopher Fitzgerald\, Jeremy Shamos and Ryan Karels\, with music direction by T.O. Sterrett. \n  \nGet Tickets! Subscribe to the ‘Pompano Players’ Series
URL:https://pompanotheater.com/event/gutenberg-the-musical/2026-11-07/2/
LOCATION:Pompano Beach Cultural Center
CATEGORIES:Pompano Players
ATTACH;FMTTYPE=image/jpeg:https://pompanotheater.com/wp-content/uploads/2026/04/14.jpg
END:VEVENT
BEGIN:VEVENT
DTSTART;TZID=America/New_York:20261108T140000
DTEND;TZID=America/New_York:20261108T170000
DTSTAMP:20260421T181919
CREATED:20260407T131348Z
LAST-MODIFIED:20260407T131348Z
UID:10000138-1794146400-1794157200@pompanotheater.com
SUMMARY:GUTENBERG! THE MUSICAL!
DESCRIPTION:Click Here to View Subscription Packages \n\nCreated by By Scott Brown and Anthony King\nIn this two-man musical spoof\, two aspiring playwrights pitch a hilariously misguided musical about printing press inventor Johann Gutenberg.\nGutenberg! The Musical! is a clever\, offbeat\, frequently absurd comedy that affectionately spoofs the world of musical theater. This love letter to new works is told through the lens of two aspiring writers earnestly pitching their wildly inaccurate musical about the invention of the printing press\, blending infectious enthusiasm\, witty songs\, and irreverent historical twists.\n\nWHAT CRITICS SAY\n “Brilliantly realized and side-splitting!” –New York Magazine \n“A smashing success!” – The New York Times \n“There are lots of genuine laughs in Gutenberg!” – New York Post \nHistory:\nGutenberg! The Musical! premiered on Broadway at the James Earl Jones Theatre on October 12\, 2023. Directed by Alex Timbers\, the Broadway production starred Josh Gad and Andrew Rannells. Scott Brown and Anthony King originally developed Gutenberg! at the Upright Citizens Brigade Theatre in New York City\, where it ran for over a year\, starring the authors and Ken Keech with direction by Charlie Todd and musical direction by Barry Wyner. The show was part of the 2005 and 2006 New York Musical Theatre Festival and ran at the Jermyn Street Theatre in London in January 2006. Gutenberg! The Musical! opened off-Broadway at 59E59 on December 3\, 2006\, transferring to The Actors’ Playhouse on January 16\, 2007. Directed by Timbers\, the off-Broadway production featured Christopher Fitzgerald\, Jeremy Shamos and Ryan Karels\, with music direction by T.O. Sterrett. \n  \nGet Tickets! Subscribe to the ‘Pompano Players’ Series
URL:https://pompanotheater.com/event/gutenberg-the-musical/2026-11-08/
LOCATION:Pompano Beach Cultural Center
CATEGORIES:Pompano Players
ATTACH;FMTTYPE=image/jpeg:https://pompanotheater.com/wp-content/uploads/2026/04/14.jpg
END:VEVENT
BEGIN:VEVENT
DTSTART;TZID=America/New_York:20261113T190000
DTEND;TZID=America/New_York:20261113T210000
DTSTAMP:20260421T181920
CREATED:20260407T131348Z
LAST-MODIFIED:20260407T131348Z
UID:10000139-1794596400-1794603600@pompanotheater.com
SUMMARY:GUTENBERG! THE MUSICAL!
DESCRIPTION:Click Here to View Subscription Packages \n\nCreated by By Scott Brown and Anthony King\nIn this two-man musical spoof\, two aspiring playwrights pitch a hilariously misguided musical about printing press inventor Johann Gutenberg.\nGutenberg! The Musical! is a clever\, offbeat\, frequently absurd comedy that affectionately spoofs the world of musical theater. This love letter to new works is told through the lens of two aspiring writers earnestly pitching their wildly inaccurate musical about the invention of the printing press\, blending infectious enthusiasm\, witty songs\, and irreverent historical twists.\n\nWHAT CRITICS SAY\n “Brilliantly realized and side-splitting!” –New York Magazine \n“A smashing success!” – The New York Times \n“There are lots of genuine laughs in Gutenberg!” – New York Post \nHistory:\nGutenberg! The Musical! premiered on Broadway at the James Earl Jones Theatre on October 12\, 2023. Directed by Alex Timbers\, the Broadway production starred Josh Gad and Andrew Rannells. Scott Brown and Anthony King originally developed Gutenberg! at the Upright Citizens Brigade Theatre in New York City\, where it ran for over a year\, starring the authors and Ken Keech with direction by Charlie Todd and musical direction by Barry Wyner. The show was part of the 2005 and 2006 New York Musical Theatre Festival and ran at the Jermyn Street Theatre in London in January 2006. Gutenberg! The Musical! opened off-Broadway at 59E59 on December 3\, 2006\, transferring to The Actors’ Playhouse on January 16\, 2007. Directed by Timbers\, the off-Broadway production featured Christopher Fitzgerald\, Jeremy Shamos and Ryan Karels\, with music direction by T.O. Sterrett. \n  \nGet Tickets! Subscribe to the ‘Pompano Players’ Series
URL:https://pompanotheater.com/event/gutenberg-the-musical/2026-11-13/
LOCATION:Pompano Beach Cultural Center
CATEGORIES:Pompano Players
ATTACH;FMTTYPE=image/jpeg:https://pompanotheater.com/wp-content/uploads/2026/04/14.jpg
END:VEVENT
BEGIN:VEVENT
DTSTART;TZID=America/New_York:20261114T140000
DTEND;TZID=America/New_York:20261114T170000
DTSTAMP:20260421T181920
CREATED:20260407T131348Z
LAST-MODIFIED:20260407T131348Z
UID:10000140-1794664800-1794675600@pompanotheater.com
SUMMARY:GUTENBERG! THE MUSICAL!
DESCRIPTION:Click Here to View Subscription Packages \n\nCreated by By Scott Brown and Anthony King\nIn this two-man musical spoof\, two aspiring playwrights pitch a hilariously misguided musical about printing press inventor Johann Gutenberg.\nGutenberg! The Musical! is a clever\, offbeat\, frequently absurd comedy that affectionately spoofs the world of musical theater. This love letter to new works is told through the lens of two aspiring writers earnestly pitching their wildly inaccurate musical about the invention of the printing press\, blending infectious enthusiasm\, witty songs\, and irreverent historical twists.\n\nWHAT CRITICS SAY\n “Brilliantly realized and side-splitting!” –New York Magazine \n“A smashing success!” – The New York Times \n“There are lots of genuine laughs in Gutenberg!” – New York Post \nHistory:\nGutenberg! The Musical! premiered on Broadway at the James Earl Jones Theatre on October 12\, 2023. Directed by Alex Timbers\, the Broadway production starred Josh Gad and Andrew Rannells. Scott Brown and Anthony King originally developed Gutenberg! at the Upright Citizens Brigade Theatre in New York City\, where it ran for over a year\, starring the authors and Ken Keech with direction by Charlie Todd and musical direction by Barry Wyner. The show was part of the 2005 and 2006 New York Musical Theatre Festival and ran at the Jermyn Street Theatre in London in January 2006. Gutenberg! The Musical! opened off-Broadway at 59E59 on December 3\, 2006\, transferring to The Actors’ Playhouse on January 16\, 2007. Directed by Timbers\, the off-Broadway production featured Christopher Fitzgerald\, Jeremy Shamos and Ryan Karels\, with music direction by T.O. Sterrett. \n  \nGet Tickets! Subscribe to the ‘Pompano Players’ Series
URL:https://pompanotheater.com/event/gutenberg-the-musical/2026-11-14/1/
LOCATION:Pompano Beach Cultural Center
CATEGORIES:Pompano Players
ATTACH;FMTTYPE=image/jpeg:https://pompanotheater.com/wp-content/uploads/2026/04/14.jpg
END:VEVENT
BEGIN:VEVENT
DTSTART;TZID=America/New_York:20261114T190000
DTEND;TZID=America/New_York:20261114T210000
DTSTAMP:20260421T181920
CREATED:20260407T131348Z
LAST-MODIFIED:20260407T131348Z
UID:10000141-1794682800-1794690000@pompanotheater.com
SUMMARY:GUTENBERG! THE MUSICAL!
DESCRIPTION:Click Here to View Subscription Packages \n\nCreated by By Scott Brown and Anthony King\nIn this two-man musical spoof\, two aspiring playwrights pitch a hilariously misguided musical about printing press inventor Johann Gutenberg.\nGutenberg! The Musical! is a clever\, offbeat\, frequently absurd comedy that affectionately spoofs the world of musical theater. This love letter to new works is told through the lens of two aspiring writers earnestly pitching their wildly inaccurate musical about the invention of the printing press\, blending infectious enthusiasm\, witty songs\, and irreverent historical twists.\n\nWHAT CRITICS SAY\n “Brilliantly realized and side-splitting!” –New York Magazine \n“A smashing success!” – The New York Times \n“There are lots of genuine laughs in Gutenberg!” – New York Post \nHistory:\nGutenberg! The Musical! premiered on Broadway at the James Earl Jones Theatre on October 12\, 2023. Directed by Alex Timbers\, the Broadway production starred Josh Gad and Andrew Rannells. Scott Brown and Anthony King originally developed Gutenberg! at the Upright Citizens Brigade Theatre in New York City\, where it ran for over a year\, starring the authors and Ken Keech with direction by Charlie Todd and musical direction by Barry Wyner. The show was part of the 2005 and 2006 New York Musical Theatre Festival and ran at the Jermyn Street Theatre in London in January 2006. Gutenberg! The Musical! opened off-Broadway at 59E59 on December 3\, 2006\, transferring to The Actors’ Playhouse on January 16\, 2007. Directed by Timbers\, the off-Broadway production featured Christopher Fitzgerald\, Jeremy Shamos and Ryan Karels\, with music direction by T.O. Sterrett. \n  \nGet Tickets! Subscribe to the ‘Pompano Players’ Series
URL:https://pompanotheater.com/event/gutenberg-the-musical/2026-11-14/2/
LOCATION:Pompano Beach Cultural Center
CATEGORIES:Pompano Players
ATTACH;FMTTYPE=image/jpeg:https://pompanotheater.com/wp-content/uploads/2026/04/14.jpg
END:VEVENT
BEGIN:VEVENT
DTSTART;TZID=America/New_York:20261115T140000
DTEND;TZID=America/New_York:20261115T170000
DTSTAMP:20260421T181920
CREATED:20260407T131348Z
LAST-MODIFIED:20260407T131348Z
UID:10000142-1794751200-1794762000@pompanotheater.com
SUMMARY:GUTENBERG! THE MUSICAL!
DESCRIPTION:Click Here to View Subscription Packages \n\nCreated by By Scott Brown and Anthony King\nIn this two-man musical spoof\, two aspiring playwrights pitch a hilariously misguided musical about printing press inventor Johann Gutenberg.\nGutenberg! The Musical! is a clever\, offbeat\, frequently absurd comedy that affectionately spoofs the world of musical theater. This love letter to new works is told through the lens of two aspiring writers earnestly pitching their wildly inaccurate musical about the invention of the printing press\, blending infectious enthusiasm\, witty songs\, and irreverent historical twists.\n\nWHAT CRITICS SAY\n “Brilliantly realized and side-splitting!” –New York Magazine \n“A smashing success!” – The New York Times \n“There are lots of genuine laughs in Gutenberg!” – New York Post \nHistory:\nGutenberg! The Musical! premiered on Broadway at the James Earl Jones Theatre on October 12\, 2023. Directed by Alex Timbers\, the Broadway production starred Josh Gad and Andrew Rannells. Scott Brown and Anthony King originally developed Gutenberg! at the Upright Citizens Brigade Theatre in New York City\, where it ran for over a year\, starring the authors and Ken Keech with direction by Charlie Todd and musical direction by Barry Wyner. The show was part of the 2005 and 2006 New York Musical Theatre Festival and ran at the Jermyn Street Theatre in London in January 2006. Gutenberg! The Musical! opened off-Broadway at 59E59 on December 3\, 2006\, transferring to The Actors’ Playhouse on January 16\, 2007. Directed by Timbers\, the off-Broadway production featured Christopher Fitzgerald\, Jeremy Shamos and Ryan Karels\, with music direction by T.O. Sterrett. \n  \nGet Tickets! Subscribe to the ‘Pompano Players’ Series
URL:https://pompanotheater.com/event/gutenberg-the-musical/2026-11-15/
LOCATION:Pompano Beach Cultural Center
CATEGORIES:Pompano Players
ATTACH;FMTTYPE=image/jpeg:https://pompanotheater.com/wp-content/uploads/2026/04/14.jpg
END:VEVENT
BEGIN:VEVENT
DTSTART;TZID=America/New_York:20261120T140000
DTEND;TZID=America/New_York:20261120T153000
DTSTAMP:20260421T181920
CREATED:20260407T082933Z
LAST-MODIFIED:20260407T082933Z
UID:10000186-1795183200-1795188600@pompanotheater.com
SUMMARY:HOT BRASS: A TRIBUTE TO EARTH\, WIND & FIRE and CHICAGO
DESCRIPTION:$65 Platinum | $55 Premium | Standard $45\n\nExperience the ultimate fusion of Rock and Funk with HOT BRASS\, A Tribute Show celebrating the timeless hits of Chicago and Earth\, Wind & Fire!\nLed by the incredible female saxophonist\, Debbie Pierce\, this show features FOUR dynamic lead vocalists\, a SIZZILIN’ Horn Section and a ROCK SOLID rhythm section! Join us on an electrifying journey through the iconic melodies that defined an era. Get ready for an unforgettable night of music that transcends boundaries and pays homage to the legendary sounds of two groundbreaking bands. \nJoin audiences everywhere as they get up and Groove to funky songs like “September” and “Boogie Wonderland”\, Rock out to “25 or 6 to 4” and “Make Me Smile” and take a trip down memory lane with “Colour My World” and “You’re my Inspiration”. \n \nThe band is comprised of some of the best musicians around! Members have toured and recorded with some of the biggest names in the Music business including JLo\, Gloria Estefan\, Phil Collins\, Jon Secada\, and George Benson. HOT BRASS consistently delivers not just great music\, but fantastic showmanship and thrilling entertainment too! \n\nBUY TICKETS
URL:https://pompanotheater.com/event/hot-brass-a-tribute-to-earth-wind-fire-and-chicago/
LOCATION:Pompano Beach Cultural Center
CATEGORIES:Pompano Beach Live
ATTACH;FMTTYPE=image/png:https://pompanotheater.com/wp-content/uploads/2025/05/2.png
END:VEVENT
BEGIN:VEVENT
DTSTART;TZID=America/New_York:20261122T140000
DTEND;TZID=America/New_York:20261122T153000
DTSTAMP:20260421T181920
CREATED:20260407T083705Z
LAST-MODIFIED:20260407T083915Z
UID:10000202-1795356000-1795361400@pompanotheater.com
SUMMARY:The Spaghetti & Matzo Ball Show
DESCRIPTION:$65 Platinum | $55 Premium | Standard $45\n\nThe Kosher-Nostra of Comedy and Music present The Spaghetti & Matzo Ball Show! \nPeter Fogel and Lou Villano are two boys from Brooklyn (One Jewish\, One Italian) whose paths crossed 50 years ago on the F train in Bensonhurst. They lost touch until decades later when they reconnected for “The Spaghetti & Matzo Ball Show!”  With their Musical and Comedy Talents\, Lou and Peter recreate the Vegas Style entertainment of past performers like Martin and Lewis. It’s over 90 minutes of Song and Comedy. You’ll laugh\, You’ll Cry–You’ll have FREE Parking! \n \n\nBUY TICKETS \n  \nABOUT PETER FOGEL:\nPeter Fogel (Producer/Comedian) is no stranger to late-night comedy and theater audiences across North America and parts of New Jersey. He is an award-winning comedian\, actor\, and playwright who’s worked or appeared on over 22  television shows. (HBO’s Comedy Central\, Carolines Comedy Hour\, Comic Strip Live\, Evening at the Improv\, Married With Children\, Men Behaving Badly\, Unhappily Ever After — to name just a few) On television and radio\, Peter has hawked products such as Zima and Miller Lite. In the 1980s\, he was the Ring Around the Collar for WHISK DETERGENT. His movie credits include TEEN WOLF TOO (with Jason Bateman) and co-starring with Jeff Trachta in the sizzling movie A BOLD AFFAIR! Presently\, Peter is the National Touring Star of NOT one but two critically acclaimed one-person shows: Steve Solomon’s  MY Mother’s ITALIAN\, My Father’s Jewish… & I’M IN THERAPY… and his own solo show\, TIL DEATH DO US PART… YOU FIRST! The latter is directed by 3-time Emmy Award Winner\, Broadway Legend & Academy Award Nominee CHAZZ PALMINTERI (Creator of the movie A BRONX TALE. In Chicago\, he received his improv training at the legendary mecca of Improv: THE SECOND CITY (While there\, he was taught by the legendary master-teacher DEL CLOSE) Peter has brought his comedian talents to South Florida where he stars in two hysterical holiday shows Kosher Comedy Show: LAUGHING FROM RIGHT TO LEFT…Two Jews With Nothing To Do… as well as the KOSHER NOSTRA of COMEDY: The Spaghetti & Matzo Ball Show. During his 30+-year career\, Fogel has shared the stage with Dennis Miller\, Lewis Black\, Robert Klein\, Ed Asner\, Tommy Tune\, Barbara McNair\, Clint Holmes\, and Stefanie Miller. He has also improvised on stage with the late legendary comedian ROBIN WILLIAMS and lived to tell about it. His websites are http://www.fogelscorporatecomedy.com and tildeathdousparttheplay.com \nABOUT LOU VILLANO:\nAre you the Entertainer?”  When Lou brought his talent from New York to South Florida\, that was the question he was asked every time he arrived to do a show.  Of course\, the answer was\, “Yes\, I am.”  Now\, Lou no longer has to answer that question.  Since his first show in October of 2006\, Lou has positioned himself as one of the top entertainers in his field.  He has performed 3 times with the Sugar Pops and Hallandale Symphony Orchestras. On Nov. 28th\, 2015 Lou was praised by Dick Robinson\, the Founder of the Preservation of the Great American Songbook & radio personality on Legends Radio 100.3 FM in Palm Beach County.  Hear that segment of the show & his review of Lou’s arrangement of I’ll Take Romance – Lou Villano on Legends Radio.  Lou has also been featured on the Morning Lounge hosted by Jill & Rich Switzer from Legends 100.3 FM & interviewed recently by radio personality Mic McGann of Legends about his Paul Anka Show (Lou Villano discuss his Paul Anka Tribute Show).  He has performed with such great performers as: Lou Christie\, Rich Purpura\, Gene Merola\, Sal Richards\, Bobby Kelton\, Ken Block\, Steve Solomon\, Rocky LaPorte\, Carl Guerra\, Tim Cotter\, Mike Marino\, Ben Kurland\, Wendy Liebman\, Brad Zimmerman\, Peter Fogel\, Barry St. Ives\, Alan Prophet and The Grandmother of Comedy – Mrs. Hughes. This show and others are MUST SEE SHOWS!!  “Let the Good Times Roll”\, “The Spaghetti & Matzo Ball Show”\, “My Music – My Life”\, “Singin’ & Swingin’ the Hits of Bobby Darin” \, “Remembering Mr. Show Biz – Sammy Davis\, Jr.” are just a few of his many shows.  If you haven’t attended a Lou Villano show you don’t know what you are missing.
URL:https://pompanotheater.com/event/the-spaghetti-matzo-ball-show-2/
CATEGORIES:Pompano Beach Live
ATTACH;FMTTYPE=image/png:https://pompanotheater.com/wp-content/uploads/2025/05/1.png
END:VEVENT
END:VCALENDAR