BEGIN:VCALENDAR
VERSION:2.0
PRODID:-//Pompano Beach Live - ECPv6.15.20//NONSGML v1.0//EN
CALSCALE:GREGORIAN
METHOD:PUBLISH
X-ORIGINAL-URL:https://pompanotheater.com
X-WR-CALDESC:Events for Pompano Beach Live
REFRESH-INTERVAL;VALUE=DURATION:PT1H
X-Robots-Tag:noindex
X-PUBLISHED-TTL:PT1H
BEGIN:VTIMEZONE
TZID:America/New_York
BEGIN:DAYLIGHT
TZOFFSETFROM:-0500
TZOFFSETTO:-0400
TZNAME:EDT
DTSTART:20260308T070000
END:DAYLIGHT
BEGIN:STANDARD
TZOFFSETFROM:-0400
TZOFFSETTO:-0500
TZNAME:EST
DTSTART:20261101T060000
END:STANDARD
BEGIN:DAYLIGHT
TZOFFSETFROM:-0500
TZOFFSETTO:-0400
TZNAME:EDT
DTSTART:20270314T070000
END:DAYLIGHT
BEGIN:STANDARD
TZOFFSETFROM:-0400
TZOFFSETTO:-0500
TZNAME:EST
DTSTART:20271107T060000
END:STANDARD
BEGIN:DAYLIGHT
TZOFFSETFROM:-0500
TZOFFSETTO:-0400
TZNAME:EDT
DTSTART:20280312T070000
END:DAYLIGHT
BEGIN:STANDARD
TZOFFSETFROM:-0400
TZOFFSETTO:-0500
TZNAME:EST
DTSTART:20281105T060000
END:STANDARD
END:VTIMEZONE
BEGIN:VEVENT
DTSTART;TZID=America/New_York:20270523T140000
DTEND;TZID=America/New_York:20270523T170000
DTSTAMP:20260421T213827
CREATED:20260408T112027Z
LAST-MODIFIED:20260408T112027Z
UID:10000182-1811080800-1811091600@pompanotheater.com
SUMMARY:HONKY TONK ANGELS
DESCRIPTION:Click Here to View Subscription Packages\n\nCreated by Ted Swindley\nIn this rollicking country jukebox musical\, join down-home ladies Angela\, Darlene and Sue Ellen as they make the decision to follow their dreams of country music stardom all the way to Nashville. On the way there\, they‘ll sing through a medley of some of the most famous\, crowd-pleasing country standards\, and form a friendship worthy of the name Honky Tonk Angels. Get your dancin‘ shoes on\, because these three girls are going on an adventure full of joy\, laughter and music to turn any show into a good old-fashioned hoedown! With songs ranging from “These Boots Are Made For Walking” and “Coal Miner‘s Daughter\,” the fun and the memories won‘t stop until those Angels pull into Nashville\, with a dream on their back and a song in their heart. \nFeaturing hits like “9 to 5\,” “I Will Always Love You\,” “Stand by Your Man\,” “Coal Miner’s Daughter\,” “These Boots Are Made for Walkin’\,” “Harper Valley PTA\,” “Rocky Top\,” “I’ll Fly Away\,” and “Amazing Grace\,” and more!  \n  \nWHAT CRTICS SAY \n“A down-home treat for country music fans!” – Orlando Sentinel \n“A highly enjoyable review!” – Chicago Tribune \n  \nBuy Tickets! Subscribe to the ‘Pompano Players’ Series.
URL:https://pompanotheater.com/event/honky-tonk-angels/2027-05-23/
LOCATION:Pompano Beach Cultural Center
CATEGORIES:Pompano Players
ATTACH;FMTTYPE=image/jpeg:https://pompanotheater.com/wp-content/uploads/2026/04/778x465_HONKY-TONK-ANGELS.jpg
END:VEVENT
BEGIN:VEVENT
DTSTART;TZID=America/New_York:20270530T140000
DTEND;TZID=America/New_York:20270530T170000
DTSTAMP:20260421T213827
CREATED:20260407T110658Z
LAST-MODIFIED:20260407T110658Z
UID:10000198-1811685600-1811696400@pompanotheater.com
SUMMARY:HER NAME IS BARBRA-  A Tribute Show Starring Joy Altman
DESCRIPTION:$65 Platinum | $55 Premium | Standard $45\n\nHER NAME IS BARBRA takes audiences on a wonderful musical journey through Barbra Streisand’s film and stage career\, while also showcasing the Broadway and concert hit favorites from Funny Girl and Hello Dolly! to Yentland A Star is Born. Along with convincing\, high-energy portrayals of the characters and comedy of Barbra\, Joy Altman also provides top-notch emotional delivery of the notes and lyrics\, truly invoking the impeccable vocal control and unique style of Streisand\, leaving audiences excited\, moved and mesmerized! HER NAME IS BARBRA\, Starring Joy Altman is a Streisand tribute show and experience not to be missed! \n \n\nBUY TICKETS
URL:https://pompanotheater.com/event/her-name-is-barbra-a-tribute-show-starring-joy-altman/
LOCATION:Pompano Beach Cultural Center
CATEGORIES:Pompano Beach Live
ATTACH;FMTTYPE=image/jpeg:https://pompanotheater.com/wp-content/uploads/2026/04/Pompano-beach-Live-20262027-Season-13.jpg
END:VEVENT
BEGIN:VEVENT
DTSTART;TZID=America/New_York:20270709T193000
DTEND;TZID=America/New_York:20270709T210000
DTSTAMP:20260421T213827
CREATED:20260407T110924Z
LAST-MODIFIED:20260407T110924Z
UID:10000199-1815161400-1815166800@pompanotheater.com
SUMMARY:QUEEN LIVES! - The Ultimate Queen Tribute
DESCRIPTION:$65 Platinum | $55 Premium | Standard $45\n\nThe legendary hits of Queen\, from “Bohemian Rhapsody” to “We Will Rock You”\, “Somebody to Love”\,”Under Pressure” and more!  \nQUEEN LIVES! is an authentic sounding and visually exciting Queen live experience featuring the band’s layered harmonies and complex musical arrangements. You will be amazed by the stunning vocals\, and electrifying performance of ‘Queen Lives!’\, featuring Roy Cruz as Freddie Mercury. Roy has worked as an artist in Florida\, New York\, California\, Mexico and around the world. His experience throughout his career has afforded him the opportunity to work with top headliners. Don’t miss this ultimate Queen tribute show\, ‘Queen Lives!’ \n  \nBUY TICKETS
URL:https://pompanotheater.com/event/queen-lives-the-ultimate-queen-tribute/
LOCATION:Pompano Beach Cultural Center
CATEGORIES:Pompano Beach Live
ATTACH;FMTTYPE=image/jpeg:https://pompanotheater.com/wp-content/uploads/2026/04/Pompano-beach-Live-20262027-Season-14.jpg
END:VEVENT
BEGIN:VEVENT
DTSTART;TZID=America/New_York:20270718T140000
DTEND;TZID=America/New_York:20270718T153000
DTSTAMP:20260421T213827
CREATED:20260407T111211Z
LAST-MODIFIED:20260407T111211Z
UID:10000200-1815919200-1815924600@pompanotheater.com
SUMMARY:The Steely Dan Project- Let’s Do It Again
DESCRIPTION:$65 Platinum | $55 Premium | Standard $45\n\nSmooth… Timeless… Unmatched… \n“Do It Again\,” “Reelin’ in the Years\,” “Rikki Don’t Lose That Number\,” “Peg\,” “Deacon Blues\,” “Hey Nineteen\,” “Dirty Work\,” and more! \nThe songs of Steely Dan formed the soundtrack to many of our lives. Donald Fagen & Walter Becker uniquely bridged Jazz\, Rock and R&B to create a new kind of pop music. Twelve of South Florida’s finest musicians unite to faithfully interpret the Steely Dan songbook in an exciting live concert experience. DO IT AGAIN celebrates this timeless music with an authentically produced concert experience featuring top hits and album cuts from their extensive catalog. \n \n\nBUY TICKETS
URL:https://pompanotheater.com/event/the-steely-dan-project-lets-do-it-again/
LOCATION:Pompano Beach Cultural Center
CATEGORIES:Pompano Beach Live
ATTACH;FMTTYPE=image/jpeg:https://pompanotheater.com/wp-content/uploads/2026/04/Pompano-beach-Live-20262027-Season-15.jpg
END:VEVENT
BEGIN:VEVENT
DTSTART;TZID=America/New_York:20270806T193000
DTEND;TZID=America/New_York:20270806T210000
DTSTAMP:20260421T213827
CREATED:20260407T111917Z
LAST-MODIFIED:20260407T111917Z
UID:10000201-1817580600-1817586000@pompanotheater.com
SUMMARY:Brothers Again: A Celebration of the Allman Brothers
DESCRIPTION:$65 Platinum | $55 Premium | Standard $45\n\nIf you’re ready to rock out to your favorite Allman Brothers Band songs\, we’ve got you covered. \nFeel the soul\, swagger\, and Southern rock fire of The Allman Brothers Band brought to life. Brothers Again delivers a powerful\, immersive concert experience with masterful musicianship\, searing guitar solos\, and heartfelt vocals. Featuring a lineup of seasoned pros personally connected to the band’s legacy and devoted to the music\, they recreate the Allmans’ signature dual-lead guitar harmonies and deep Southern blues with precision and passion. It’s more than a concert\, it’s a journey through the golden age of classic rock!  \n “Whipping Post\,” “Ramblin’ Man\,” “Midnight Rider\,” “Jessica\,” “Melissa\,” “Blue Sky\,” and more!  \n \n  \nBUY TICKETS
URL:https://pompanotheater.com/event/brothers-again-a-celebration-of-the-allman-brothers/
LOCATION:Pompano Beach Cultural Center
CATEGORIES:Pompano Beach Live
ATTACH;FMTTYPE=image/jpeg:https://pompanotheater.com/wp-content/uploads/2025/03/Brothers-Again-UPDATED-graphic-1-1.jpg
END:VEVENT
END:VCALENDAR