BEGIN:VCALENDAR
VERSION:2.0
PRODID:-//Pompano Beach Live - ECPv6.15.20//NONSGML v1.0//EN
CALSCALE:GREGORIAN
METHOD:PUBLISH
X-WR-CALNAME:Pompano Beach Live
X-ORIGINAL-URL:https://pompanotheater.com
X-WR-CALDESC:Events for Pompano Beach Live
REFRESH-INTERVAL;VALUE=DURATION:PT1H
X-Robots-Tag:noindex
X-PUBLISHED-TTL:PT1H
BEGIN:VTIMEZONE
TZID:America/New_York
BEGIN:DAYLIGHT
TZOFFSETFROM:-0500
TZOFFSETTO:-0400
TZNAME:EDT
DTSTART:20260308T070000
END:DAYLIGHT
BEGIN:STANDARD
TZOFFSETFROM:-0400
TZOFFSETTO:-0500
TZNAME:EST
DTSTART:20261101T060000
END:STANDARD
BEGIN:DAYLIGHT
TZOFFSETFROM:-0500
TZOFFSETTO:-0400
TZNAME:EDT
DTSTART:20270314T070000
END:DAYLIGHT
BEGIN:STANDARD
TZOFFSETFROM:-0400
TZOFFSETTO:-0500
TZNAME:EST
DTSTART:20271107T060000
END:STANDARD
BEGIN:DAYLIGHT
TZOFFSETFROM:-0500
TZOFFSETTO:-0400
TZNAME:EDT
DTSTART:20280312T070000
END:DAYLIGHT
BEGIN:STANDARD
TZOFFSETFROM:-0400
TZOFFSETTO:-0500
TZNAME:EST
DTSTART:20281105T060000
END:STANDARD
END:VTIMEZONE
BEGIN:VEVENT
DTSTART;TZID=America/New_York:20270806T193000
DTEND;TZID=America/New_York:20270806T210000
DTSTAMP:20260422T075939
CREATED:20260407T111917Z
LAST-MODIFIED:20260407T111917Z
UID:10000201-1817580600-1817586000@pompanotheater.com
SUMMARY:Brothers Again: A Celebration of the Allman Brothers
DESCRIPTION:$65 Platinum | $55 Premium | Standard $45\n\nIf you’re ready to rock out to your favorite Allman Brothers Band songs\, we’ve got you covered. \nFeel the soul\, swagger\, and Southern rock fire of The Allman Brothers Band brought to life. Brothers Again delivers a powerful\, immersive concert experience with masterful musicianship\, searing guitar solos\, and heartfelt vocals. Featuring a lineup of seasoned pros personally connected to the band’s legacy and devoted to the music\, they recreate the Allmans’ signature dual-lead guitar harmonies and deep Southern blues with precision and passion. It’s more than a concert\, it’s a journey through the golden age of classic rock!  \n “Whipping Post\,” “Ramblin’ Man\,” “Midnight Rider\,” “Jessica\,” “Melissa\,” “Blue Sky\,” and more!  \n \n  \nBUY TICKETS
URL:https://pompanotheater.com/event/brothers-again-a-celebration-of-the-allman-brothers/
LOCATION:Pompano Beach Cultural Center
CATEGORIES:Pompano Beach Live
ATTACH;FMTTYPE=image/jpeg:https://pompanotheater.com/wp-content/uploads/2025/03/Brothers-Again-UPDATED-graphic-1-1.jpg
END:VEVENT
END:VCALENDAR