BEGIN:VCALENDAR
VERSION:2.0
PRODID:-//Pompano Beach Live - ECPv6.15.20//NONSGML v1.0//EN
CALSCALE:GREGORIAN
METHOD:PUBLISH
X-WR-CALNAME:Pompano Beach Live
X-ORIGINAL-URL:https://pompanotheater.com
X-WR-CALDESC:Events for Pompano Beach Live
REFRESH-INTERVAL;VALUE=DURATION:PT1H
X-Robots-Tag:noindex
X-PUBLISHED-TTL:PT1H
BEGIN:VTIMEZONE
TZID:America/New_York
BEGIN:DAYLIGHT
TZOFFSETFROM:-0500
TZOFFSETTO:-0400
TZNAME:EDT
DTSTART:20240310T070000
END:DAYLIGHT
BEGIN:STANDARD
TZOFFSETFROM:-0400
TZOFFSETTO:-0500
TZNAME:EST
DTSTART:20241103T060000
END:STANDARD
BEGIN:DAYLIGHT
TZOFFSETFROM:-0500
TZOFFSETTO:-0400
TZNAME:EDT
DTSTART:20250309T070000
END:DAYLIGHT
BEGIN:STANDARD
TZOFFSETFROM:-0400
TZOFFSETTO:-0500
TZNAME:EST
DTSTART:20251102T060000
END:STANDARD
BEGIN:DAYLIGHT
TZOFFSETFROM:-0500
TZOFFSETTO:-0400
TZNAME:EDT
DTSTART:20260308T070000
END:DAYLIGHT
BEGIN:STANDARD
TZOFFSETFROM:-0400
TZOFFSETTO:-0500
TZNAME:EST
DTSTART:20261101T060000
END:STANDARD
END:VTIMEZONE
BEGIN:VEVENT
DTSTART;TZID=America/New_York:20250315T193000
DTEND;TZID=America/New_York:20250315T210000
DTSTAMP:20260423T024433
CREATED:20250311T215101Z
LAST-MODIFIED:20250314T082127Z
UID:10000007-1742067000-1742072400@pompanotheater.com
SUMMARY:FUNNY WOMEN OF A CERTAIN AGE®
DESCRIPTION:$55 VIP | $45 Premium | Standard $35 \nFUNNY WOMEN OF A CERTAIN AGE® is a show straight from the unfettered mouths and uninhibited minds of the funniest\, most daring\, most experienced people in comedy: the women that have seen it all. \nThey’ve raised children both on and off the road\, having club bouncers watch their babies while onstage. These women have stayed in comedy condos where you don’t want to use a blacklight on anything. \nKnown as the comic’s comic\, Funny Women of a Certain Age® creator Carole Montgomery has already brought to the stage some of the most respected names in comedy including FRAN DRESCHER\, LUENELL\, JANEANE GAROFALO\, CAROLINE RHEA\, THEA VIDALE\, KERRI LOUISE\, CAROL LEIFER\, JULIA SCOTTI\, TAMMY PESCATELLI\, FELICIA MICHAELS\, CATHY LADMAN\, VANESSA HOLLINGSHEAD\, WENDY LIEBMAN\, MONIQUE MARVEZ\, LEIGHANN LORD and many more. These ladies prove that indeed #funnynevergetsold®. \nThe Pompano beach performance includes comedians Carole Montgomery\, Leighann Lord and Julia Scotti!\n\nBUY TICKETS
URL:https://pompanotheater.com/event/funny-women-of-a-certain-age/2025-03-15/
LOCATION:Pompano Beach Cultural Center
CATEGORIES:Pompano Beach Live
ATTACH;FMTTYPE=image/jpeg:https://pompanotheater.com/wp-content/uploads/2025/03/image-1-1.jpg
END:VEVENT
BEGIN:VEVENT
DTSTART;TZID=America/New_York:20250228T193000
DTEND;TZID=America/New_York:20250228T233000
DTSTAMP:20260423T024433
CREATED:20250221T104321Z
LAST-MODIFIED:20250221T104321Z
UID:10000005-1740771000-1740785400@pompanotheater.com
SUMMARY:TAPESTRY: The Carole King Songbook Starring Suzanne O. Davis
DESCRIPTION:$65 VIP | $55 Premium | Standard $45\n\n‘Tapestry’\, the Carole King Songbook\, starring Suzanne O Davis\,\nis the Premier musical tribute to Carole King.\nThis show recreates the sound and vibe of a 1970’s\nCarole King concert experience following her legendary album\, Tapestry.\nYou will be transported back to the iconic image of her\nmulti-million selling album of 1971. \nImpeccable attention to detail is taken in recreating a respectful and accurate\nmusical presentation of piano and vocals\, just as they were.\nSuzanne’s performance will take you on a journey back to those great recordings.\nDuring the 70s & 80s\, Carole played solo\, with acoustic musicians\,\nand a full band with horns during this period.\nThis show is performed in any of those formats. \nTapestry not only presents the record-breaking\,\nGrammy winning album of the same name\, but is a retrospective of the iconic\nsongwriting team of Goffin and King\, and her hits that continued into the 70’s.\nThis prolific team wrote chart-topping hits for artists such as Aretha Franklin\, Bobby Vee\,\nThe Beatles\, James Taylor\, the Drifters\, Donny Osmond…and the list goes on. \nYou will feel the Earth Move under your feet with this show.
URL:https://pompanotheater.com/event/tapestry-the-carole-king-songbook-starring-suzanne-o-davis/
ATTACH;FMTTYPE=image/png:https://pompanotheater.com/wp-content/uploads/2025/02/Tapestry-Carole-King-Songbook-768x459-1.png
END:VEVENT
BEGIN:VEVENT
DTSTART;TZID=America/New_York:20250226T150000
DTEND;TZID=America/New_York:20250226T233000
DTSTAMP:20260423T024433
CREATED:20250221T103713Z
LAST-MODIFIED:20250221T103713Z
UID:10000004-1740582000-1740612600@pompanotheater.com
SUMMARY:The Edwards Twins- Final Farewell Tour
DESCRIPTION:AFTER 40 YEARS OF PERFORMANCES\, THE EDWARDS TWNS ARE RETIRING!\nRemember all the wonderful Variety shows we all grew up on in the 70’s & 80’s? Now is your chance to see them live and re-created by Las Vegas’ number one impersonators of all time. All your favorite legendary Superstars come alive in An Evening with The Stars. The NBC Today show says “it’s one of the most extra­ordinary shows we have ever seen.” \nSonny & Cher\, Billy Joel\, Elton John\, Neil Diamond\, Lionel Richie\, Stevie Wonder\, Ray Charles\, Lady Gaga\, Celine Dion\, Rod Stewart\, Bette Midler\, Barbra Streisand\, Andrea Bocelli\, Tom Jones\, and many many more hosted by THE EDWARDS TWINS FROM LAS VEGAS. \n \nTwin brothers\, Anthony and Eddie Edwards\, are the country’s premiere Celebrity Illusionists! Utilizing the latest Hollywood grade make up and prosthetics as well as the fashion designers of the stars themselves- the end result is a non-stop parade of stars on stage that are all at once AMAZING\, FUNNY and ENTERTAINING. As one newspaper review noted “they bring such love and attention to recreating celebrities that in many ways it’s better than watching the real thing!” The Brothers have been seen on shows such as The Tonight Show\, Entertainment Tonight\, The Today Show\, Ellen and currently appear in the “Kominsky Method” with Michael Douglas and Alan Arkin. The Edwards Twins perform over 250 shows per year around the country and the world. They recent performed 10 packed shows at The World Casino in Singapore and tour the state of Florida to sold out audiences from January until April annually.
URL:https://pompanotheater.com/event/the-edwards-twins-final-farewell-tour-2/
ATTACH;FMTTYPE=image/png:https://pompanotheater.com/wp-content/uploads/2025/02/fional-farewell-tour-768x459-1.png
END:VEVENT
BEGIN:VEVENT
DTSTART;TZID=America/New_York:20250225T150000
DTEND;TZID=America/New_York:20250225T233000
DTSTAMP:20260423T024433
CREATED:20250221T103512Z
LAST-MODIFIED:20250221T103512Z
UID:10000002-1740495600-1740526200@pompanotheater.com
SUMMARY:The Edwards Twins- Final Farewell Tour
DESCRIPTION:AFTER 40 YEARS OF PERFORMANCES\, THE EDWARDS TWNS ARE RETIRING!\nRemember all the wonderful Variety shows we all grew up on in the 70’s & 80’s? Now is your chance to see them live and re-created by Las Vegas’ number one impersonators of all time. All your favorite legendary Superstars come alive in An Evening with The Stars. The NBC Today show says “it’s one of the most extra­ordinary shows we have ever seen.” \nSonny & Cher\, Billy Joel\, Elton John\, Neil Diamond\, Lionel Richie\, Stevie Wonder\, Ray Charles\, Lady Gaga\, Celine Dion\, Rod Stewart\, Bette Midler\, Barbra Streisand\, Andrea Bocelli\, Tom Jones\, and many many more hosted by THE EDWARDS TWINS FROM LAS VEGAS. \n \nTwin brothers\, Anthony and Eddie Edwards\, are the country’s premiere Celebrity Illusionists! Utilizing the latest Hollywood grade make up and prosthetics as well as the fashion designers of the stars themselves- the end result is a non-stop parade of stars on stage that are all at once AMAZING\, FUNNY and ENTERTAINING. As one newspaper review noted “they bring such love and attention to recreating celebrities that in many ways it’s better than watching the real thing!” The Brothers have been seen on shows such as The Tonight Show\, Entertainment Tonight\, The Today Show\, Ellen and currently appear in the “Kominsky Method” with Michael Douglas and Alan Arkin. The Edwards Twins perform over 250 shows per year around the country and the world. They recent performed 10 packed shows at The World Casino in Singapore and tour the state of Florida to sold out audiences from January until April annually.
URL:https://pompanotheater.com/event/the-edwards-twins-final-farewell-tour/
ATTACH;FMTTYPE=image/png:https://pompanotheater.com/wp-content/uploads/2025/02/fional-farewell-tour-768x459-1.png
END:VEVENT
END:VCALENDAR